BEGIN:VCALENDAR
VERSION:2.0
PRODID:-//Center of the Soul - ECPv6.15.20//NONSGML v1.0//EN
CALSCALE:GREGORIAN
METHOD:PUBLISH
X-ORIGINAL-URL:https://centerofthesoul.nl
X-WR-CALDESC:Evenementen voor Center of the Soul
REFRESH-INTERVAL;VALUE=DURATION:PT1H
X-Robots-Tag:noindex
X-PUBLISHED-TTL:PT1H
BEGIN:VTIMEZONE
TZID:Europe/Amsterdam
BEGIN:DAYLIGHT
TZOFFSETFROM:+0100
TZOFFSETTO:+0200
TZNAME:CEST
DTSTART:20190331T010000
END:DAYLIGHT
BEGIN:STANDARD
TZOFFSETFROM:+0200
TZOFFSETTO:+0100
TZNAME:CET
DTSTART:20191027T010000
END:STANDARD
BEGIN:DAYLIGHT
TZOFFSETFROM:+0100
TZOFFSETTO:+0200
TZNAME:CEST
DTSTART:20200329T010000
END:DAYLIGHT
BEGIN:STANDARD
TZOFFSETFROM:+0200
TZOFFSETTO:+0100
TZNAME:CET
DTSTART:20201025T010000
END:STANDARD
BEGIN:DAYLIGHT
TZOFFSETFROM:+0100
TZOFFSETTO:+0200
TZNAME:CEST
DTSTART:20210328T010000
END:DAYLIGHT
BEGIN:STANDARD
TZOFFSETFROM:+0200
TZOFFSETTO:+0100
TZNAME:CET
DTSTART:20211031T010000
END:STANDARD
END:VTIMEZONE
BEGIN:VEVENT
DTSTART;TZID=Europe/Amsterdam:20200701T190000
DTEND;TZID=Europe/Amsterdam:20200701T200000
DTSTAMP:20260426T063809
CREATED:20200623T141555Z
LAST-MODIFIED:20200623T141557Z
UID:6436-1593630000-1593633600@centerofthesoul.nl
SUMMARY:Elvinar 1 juli 2020.
DESCRIPTION:Center of the Soul\nMaaseikerbaan 49\n3600 Genk.\nte. 003289845451\ncenterofthesoul.nl \nHallo allemaal.\nWe zijn goed op dreef met de soulmeetings betreffende de grote verschuivingen in de wereld.\nNa het opwekken en inbouwen van de nieuwe Isis Toonladder\, gaan we het iets rustiger aan doen.\nNiet meer om de twee weken een meeting\, maar om de drie weken.\nDan zitten we ook mooi in de flow van de 3-6-9 frequentie. \nTussentijds\, dus ingesloten binnen het hoofdthema\, gaan we ook wat subthema’s aanpakken.\nIk wil jullie eerst binnen leiden in de wondere wereld van de Elfen.\nDeze werelden zijn zo gelaagd en divers\, het is best leuk om daar meer van te weten. Wie zijn zij\, wat doen zij\, wat zijn hun verbindingen\, op welke lagen werken zij. Daarbij kijk ik niet binnen de gekende lijnen of patronen. In mijn bewustzijn zitten vele aansluitingen. Ook de Elfenwerelden vallen hieronder.  Ik heb een duidelijke toestemming gevoeld om meer van hun wereld te delen met hen die er voor open staan op de juiste manier.\nDeze schitterende wezens zijn enorm gevoelig voor licht\, kleur en toon. En met de nieuwe toonzetting in het wereldbewustzijn komen er dus ook nieuwe mogelijkheden voor alle wezens die de natuur\, groeizaamheid\, puurheid bevorderen en verzorgen. \nHoe kan je met hen samen werken\, wat doe je als je Elfen aan wilt trekken. Wat verwachten zij van ons? \nWoensdagavond 1 juli is het eerste Elvinar.\nVan 19.00 uur tot 20.00 uur.\nDe prijs voor deze aansluiting bedraagt 18 euro. \nIk hoop dat jullie de moeite willen nemen om hier deel van uit te maken. Het wordt boeiend en ook luchthartig en leuk. Ga ik van uit:-) Want zoals altijd ligt het programma niet vast\, maar ontstaat dit in het moment.\nDe link volgt hier: https://center-of-the-soul.webinargeek.com/de-wondere-wereld-van-de-elfen \nEr zal uiteraard een replay aan vast zitten\, dus je kunt zo vaak kijken als je wilt. \nTot gauw\, liefs en licht van Tineke. \nelf\, meeting
URL:https://centerofthesoul.nl/agenda-item/elvinar-1-juli-2020/
CATEGORIES:Groepssessie
ATTACH;FMTTYPE=image/jpeg:https://centerofthesoul.nl/wp-content/uploads/2020/06/FairyGames.jpg
END:VEVENT
BEGIN:VEVENT
DTSTART;TZID=Europe/Amsterdam:20200710T133000
DTEND;TZID=Europe/Amsterdam:20200710T150000
DTSTAMP:20260426T063809
CREATED:20200703T101035Z
LAST-MODIFIED:20200703T101220Z
UID:6444-1594387800-1594393200@centerofthesoul.nl
SUMMARY:De grote verschuiving
DESCRIPTION:Tijdens de afgelopen Zonnewende hebben we de nieuwe aardetoon ingebouwd\, Het Isisoctaaf. Wat zijn de gevolgen hiervan. Wat wordt er van ons verwacht. Een boeiend inzicht in het totaalplaatje van de evolutie van de aarde. \nDe link voor dit webinar vind je hieronder. \nEr zit zoals altijd een replay op\, zodat je waar en wanneer dan ook de uitzending kan bekijken en aansluiten met jouw energie. \nDoe met ons mee en voeg jouw stukje licht en liefde toe aan het grote geheel. \nLiefs van Tineke. \n  \nhttps://center-of-the-soul.webinargeek.com/de-grote-verschuiving \n  \n 
URL:https://centerofthesoul.nl/agenda-item/de-grote-verschuiving/
CATEGORIES:Groepssessie
ATTACH;FMTTYPE=image/jpeg:https://centerofthesoul.nl/wp-content/uploads/2020/07/piramide-11.jpg
END:VEVENT
BEGIN:VEVENT
DTSTART;TZID=Europe/Amsterdam:20200722T190000
DTEND;TZID=Europe/Amsterdam:20200722T200000
DTSTAMP:20260426T063809
CREATED:20200703T101816Z
LAST-MODIFIED:20200703T102012Z
UID:6447-1595444400-1595448000@centerofthesoul.nl
SUMMARY:De wondere wereld der elfen deel 2.
DESCRIPTION:Het tweede deel van de wondere wereld der elfen. Zoals jullie in het eerste webinar gemerkt hebben is er heel veel over elfen te vertellen. Waarom zijn ze vergeten geraakt\, hoe kunnen we hen terug halen in het aardse leven\, welke rassen bestaan er\, wat doen zij precies. Kortom heel veel ins en outs hebben we al besproken in het eerste deel. Dit deel is nog steeds te verkrijgen. Na overmaking van 18 euro stuur ik je dit deel toe en kun je  deze aflevering alsnog bekijken. \nHet tweede deel voert ons verder in deze vergeten materie. \nDe kosten hiervoor bedragen ook 18 euro. Er is een replay beschikbaar zodat je nog eens terug kunt kijken of op een ander moment kunt aansluiten. De energie in de overdracht zal er niet minder om zijn. \n  \nDe link om je aan te melden vind je hier: \n  \nhttps://center-of-the-soul.webinargeek.com/de-wondere-wereld-der-elfen-deel-2
URL:https://centerofthesoul.nl/agenda-item/de-wondere-wereld-der-elfen-deel-2/
CATEGORIES:Groepssessie
ATTACH;FMTTYPE=image/jpeg:https://centerofthesoul.nl/wp-content/uploads/2020/07/dimensie-elf.jpg
END:VEVENT
BEGIN:VEVENT
DTSTART;TZID=Europe/Amsterdam:20200731T133000
DTEND;TZID=Europe/Amsterdam:20200731T150000
DTSTAMP:20260426T063809
CREATED:20200724T090856Z
LAST-MODIFIED:20200724T090857Z
UID:6462-1596202200-1596207600@centerofthesoul.nl
SUMMARY:De grote verschuiving deel 2.
DESCRIPTION:Hallo allemaal\,\nHet grote spel is volop gaande\, we verschuiven alle Zonnepoorten  die met de aarde verbonden zijn. En integreren immens veel kosmisch licht in deze tijd. Het is  lang geleden dat we zoveel licht konden inbouwen in het aardeveld.\nDat is natuurlijk een grote gebeurtenis\, heel feestelijk ook op etherisch niveau. Op aardeniveau is het nog niet zo feestelijk omdat alle systemen\, alle kanalen\, al het leven op aarde aangepast moet worden aan de nieuwe frequenties. Dat kost tijd.\nDe totale reset op het wereld- DNA is volop aan de gang.\nIedere dag verandert er iets in de DNA portalen.\nIn het tweede deel van de grote verschuiving gaan we niet alleen door met het inbouwen van de Leeuwenpoort-frequentie. We gaan ook de poorten die met de Andromeda trilling te maken hebben openen. Tijdens het laatste Elfinar zijn we daar al mee begonnen.\nDe Andromeda energie is met het hart verbonden\, net zoals Venus energie\, maar dan op een totaal andere manier.\nDe beweging hierin is heel groeizaam\, gericht op celregeneratie en celveredeling. \nhttps://center-of-the-soul.webinargeek.com/de-grote-verschuiving-deel-2 \nAanmelden via bovenstaande link is gemakkelijk en vanwege de replay die er op zit hoef je ook niks te missen\, je haakt aan wanner jij wilt op jouw tijd. \nTot volgende week.
URL:https://centerofthesoul.nl/agenda-item/de-grote-verschuiving-deel-2/
CATEGORIES:Groepssessie
ATTACH;FMTTYPE=image/jpeg:https://centerofthesoul.nl/wp-content/uploads/2020/07/lionsgate7-768x432.jpg
END:VEVENT
END:VCALENDAR