BEGIN:VCALENDAR
VERSION:2.0
PRODID:-//Center of the Soul - ECPv6.15.20//NONSGML v1.0//EN
CALSCALE:GREGORIAN
METHOD:PUBLISH
X-ORIGINAL-URL:https://centerofthesoul.nl
X-WR-CALDESC:Evenementen voor Center of the Soul
REFRESH-INTERVAL;VALUE=DURATION:PT1H
X-Robots-Tag:noindex
X-PUBLISHED-TTL:PT1H
BEGIN:VTIMEZONE
TZID:Europe/Amsterdam
BEGIN:DAYLIGHT
TZOFFSETFROM:+0100
TZOFFSETTO:+0200
TZNAME:CEST
DTSTART:20190331T010000
END:DAYLIGHT
BEGIN:STANDARD
TZOFFSETFROM:+0200
TZOFFSETTO:+0100
TZNAME:CET
DTSTART:20191027T010000
END:STANDARD
BEGIN:DAYLIGHT
TZOFFSETFROM:+0100
TZOFFSETTO:+0200
TZNAME:CEST
DTSTART:20200329T010000
END:DAYLIGHT
BEGIN:STANDARD
TZOFFSETFROM:+0200
TZOFFSETTO:+0100
TZNAME:CET
DTSTART:20201025T010000
END:STANDARD
BEGIN:DAYLIGHT
TZOFFSETFROM:+0100
TZOFFSETTO:+0200
TZNAME:CEST
DTSTART:20210328T010000
END:DAYLIGHT
BEGIN:STANDARD
TZOFFSETFROM:+0200
TZOFFSETTO:+0100
TZNAME:CET
DTSTART:20211031T010000
END:STANDARD
END:VTIMEZONE
BEGIN:VEVENT
DTSTART;TZID=Europe/Amsterdam:20201104T190000
DTEND;TZID=Europe/Amsterdam:20201104T200000
DTSTAMP:20260425T212636
CREATED:20201016T140510Z
LAST-MODIFIED:20201016T140631Z
UID:12091-1604516400-1604520000@centerofthesoul.nl
SUMMARY:De wondere wereld der draken 3
DESCRIPTION:In de serie “Mythische wezens” komt er een derde Drakinar.\nGezien jullie enthousiaste reakties geen overbodige luxe. Het is geweldig om de draken op een geheel nieuwe manier  te leren kennen en heel fijn om terug in verbinding te komen met de bouwers van de lichtwerelden. \nhttps://center-of-the-soul.webinargeek.com/de-wondere-wereld-der-draken-3 \nDe kosten voor dit webinar bedragen 18 euro. \nDe complete serie “Wondere wereld der Elfen” en “Wondere wereld der Draken” is nog te bekomen. Heb je hiervoor interesse neem dan contact met mij op via dit Emailadres:tvdgiessen@skynet.be
URL:https://centerofthesoul.nl/agenda-item/de-wondere-wereld-der-draken-3/
CATEGORIES:Groepssessie
ATTACH;FMTTYPE=image/jpeg:https://centerofthesoul.nl/wp-content/uploads/2020/10/groene-draak10.jpg
ORGANIZER;CN="Center of the Soul":MAILTO:info@centerofthesoul.nl
END:VEVENT
BEGIN:VEVENT
DTSTART;TZID=Europe/Amsterdam:20201113T133000
DTEND;TZID=Europe/Amsterdam:20201113T150000
DTSTAMP:20260425T212636
CREATED:20201108T085525Z
LAST-MODIFIED:20201108T085525Z
UID:12121-1605274200-1605279600@centerofthesoul.nl
SUMMARY:Webinar: De nieuwe koers
DESCRIPTION:https://center-of-the-soul.webinargeek.com/de-nieuwe-koers
URL:https://centerofthesoul.nl/agenda-item/webinar-de-nieuwe-koers/
LOCATION:Center of the Soul\, Maaseikerbaan 42\, Genk\, 3600\, België
CATEGORIES:Groepssessie
ATTACH;FMTTYPE=image/jpeg:https://centerofthesoul.nl/wp-content/uploads/2020/11/proces-of-transition.jpg
END:VEVENT
BEGIN:VEVENT
DTSTART;TZID=Europe/Amsterdam:20201125T190000
DTEND;TZID=Europe/Amsterdam:20201125T200000
DTSTAMP:20260425T212636
CREATED:20201108T090005Z
LAST-MODIFIED:20201108T090005Z
UID:12124-1606330800-1606334400@centerofthesoul.nl
SUMMARY:Webinar: de wondere wereld der Eenhoorns
DESCRIPTION:https://center-of-the-soul.webinargeek.com/de-wondere-wereld-der-eenhoorns
URL:https://centerofthesoul.nl/agenda-item/webinar-de-wondere-wereld-der-eenhoorns/
LOCATION:Center of the Soul\, Maaseikerbaan 42\, Genk\, 3600\, België
CATEGORIES:Groepssessie
ATTACH;FMTTYPE=image/jpeg:https://centerofthesoul.nl/wp-content/uploads/2020/11/2777788910046172793myltVc_ph.jpg
END:VEVENT
END:VCALENDAR