BEGIN:VCALENDAR
VERSION:2.0
PRODID:-//Center of the Soul - ECPv6.15.20//NONSGML v1.0//EN
CALSCALE:GREGORIAN
METHOD:PUBLISH
X-ORIGINAL-URL:https://centerofthesoul.nl
X-WR-CALDESC:Evenementen voor Center of the Soul
REFRESH-INTERVAL;VALUE=DURATION:PT1H
X-Robots-Tag:noindex
X-PUBLISHED-TTL:PT1H
BEGIN:VTIMEZONE
TZID:Europe/Amsterdam
BEGIN:DAYLIGHT
TZOFFSETFROM:+0100
TZOFFSETTO:+0200
TZNAME:CEST
DTSTART:20190331T010000
END:DAYLIGHT
BEGIN:STANDARD
TZOFFSETFROM:+0200
TZOFFSETTO:+0100
TZNAME:CET
DTSTART:20191027T010000
END:STANDARD
BEGIN:DAYLIGHT
TZOFFSETFROM:+0100
TZOFFSETTO:+0200
TZNAME:CEST
DTSTART:20200329T010000
END:DAYLIGHT
BEGIN:STANDARD
TZOFFSETFROM:+0200
TZOFFSETTO:+0100
TZNAME:CET
DTSTART:20201025T010000
END:STANDARD
BEGIN:DAYLIGHT
TZOFFSETFROM:+0100
TZOFFSETTO:+0200
TZNAME:CEST
DTSTART:20210328T010000
END:DAYLIGHT
BEGIN:STANDARD
TZOFFSETFROM:+0200
TZOFFSETTO:+0100
TZNAME:CET
DTSTART:20211031T010000
END:STANDARD
END:VTIMEZONE
BEGIN:VEVENT
DTSTART;TZID=Europe/Amsterdam:20201204T133000
DTEND;TZID=Europe/Amsterdam:20201204T150000
DTSTAMP:20260425T195213
CREATED:20201128T161250Z
LAST-MODIFIED:20201128T161732Z
UID:12199-1607088600-1607094000@centerofthesoul.nl
SUMMARY:De herrijzenis van Eva.
DESCRIPTION:https://center-of-the-soul.webinargeek.com/de-herrijzenis-van-eva
URL:https://centerofthesoul.nl/agenda-item/de-herrijzenis-van-eva/
LOCATION:Center of the Soul\, Maaseikerbaan 42\, Genk\, 3600\, België
CATEGORIES:Groepssessie
ATTACH;FMTTYPE=image/jpeg:https://centerofthesoul.nl/wp-content/uploads/2020/11/ankh-pir.jpg
END:VEVENT
BEGIN:VEVENT
DTSTART;TZID=Europe/Amsterdam:20201216T190000
DTEND;TZID=Europe/Amsterdam:20201216T200000
DTSTAMP:20260425T195213
CREATED:20201128T161616Z
LAST-MODIFIED:20201128T161616Z
UID:12201-1608145200-1608148800@centerofthesoul.nl
SUMMARY:De wondere wereld der Eenhoorns 2
DESCRIPTION:https://center-of-the-soul.webinargeek.com/de-wonder-wereld-der-eenhoorns-2
URL:https://centerofthesoul.nl/agenda-item/de-wondere-wereld-der-eenhoorns-2/
LOCATION:Center of the Soul\, Maaseikerbaan 42\, Genk\, 3600\, België
CATEGORIES:Groepssessie
ATTACH;FMTTYPE=image/jpeg:https://centerofthesoul.nl/wp-content/uploads/2020/11/eenhoorn-en-bloemen.jpg
END:VEVENT
BEGIN:VEVENT
DTSTART;TZID=Europe/Amsterdam:20201221T133000
DTEND;TZID=Europe/Amsterdam:20201221T150000
DTSTAMP:20260425T195213
CREATED:20201128T162211Z
LAST-MODIFIED:20201128T162211Z
UID:12205-1608557400-1608562800@centerofthesoul.nl
SUMMARY:De nieuwe blauwdruk.
DESCRIPTION:https://center-of-the-soul.webinargeek.com/de-nieuwe-blauwdruk
URL:https://centerofthesoul.nl/agenda-item/de-nieuwe-blauwdruk/
LOCATION:Center of the Soul\, Maaseikerbaan 42\, Genk\, 3600\, België
CATEGORIES:Groepssessie
ATTACH;FMTTYPE=image/jpeg:https://centerofthesoul.nl/wp-content/uploads/2020/11/ececeae7b77b081ba102996581264d50-spirit-science-flower-of-life.jpg
END:VEVENT
BEGIN:VEVENT
DTSTART;TZID=Europe/Amsterdam:20201225T133000
DTEND;TZID=Europe/Amsterdam:20201225T143000
DTSTAMP:20260425T195213
CREATED:20201128T162612Z
LAST-MODIFIED:20201128T162612Z
UID:12208-1608903000-1608906600@centerofthesoul.nl
SUMMARY:Het feest van Licht.
DESCRIPTION:https://center-of-the-soul.webinargeek.com/feest-van-licht
URL:https://centerofthesoul.nl/agenda-item/het-feest-van-licht/
LOCATION:Center of the Soul\, Maaseikerbaan 42\, Genk\, 3600\, België
CATEGORIES:Groepssessie
ATTACH;FMTTYPE=image/jpeg:https://centerofthesoul.nl/wp-content/uploads/2020/11/kerstballen.jpg
END:VEVENT
END:VCALENDAR