BEGIN:VCALENDAR
VERSION:2.0
PRODID:-//Center of the Soul - ECPv6.15.20//NONSGML v1.0//EN
CALSCALE:GREGORIAN
METHOD:PUBLISH
X-WR-CALNAME:Center of the Soul
X-ORIGINAL-URL:https://centerofthesoul.nl
X-WR-CALDESC:Evenementen voor Center of the Soul
REFRESH-INTERVAL;VALUE=DURATION:PT1H
X-Robots-Tag:noindex
X-PUBLISHED-TTL:PT1H
BEGIN:VTIMEZONE
TZID:Europe/Amsterdam
BEGIN:DAYLIGHT
TZOFFSETFROM:+0100
TZOFFSETTO:+0200
TZNAME:CEST
DTSTART:20190331T010000
END:DAYLIGHT
BEGIN:STANDARD
TZOFFSETFROM:+0200
TZOFFSETTO:+0100
TZNAME:CET
DTSTART:20191027T010000
END:STANDARD
BEGIN:DAYLIGHT
TZOFFSETFROM:+0100
TZOFFSETTO:+0200
TZNAME:CEST
DTSTART:20200329T010000
END:DAYLIGHT
BEGIN:STANDARD
TZOFFSETFROM:+0200
TZOFFSETTO:+0100
TZNAME:CET
DTSTART:20201025T010000
END:STANDARD
BEGIN:DAYLIGHT
TZOFFSETFROM:+0100
TZOFFSETTO:+0200
TZNAME:CEST
DTSTART:20210328T010000
END:DAYLIGHT
BEGIN:STANDARD
TZOFFSETFROM:+0200
TZOFFSETTO:+0100
TZNAME:CET
DTSTART:20211031T010000
END:STANDARD
END:VTIMEZONE
BEGIN:VEVENT
DTSTART;TZID=Europe/Amsterdam:20201014T190000
DTEND;TZID=Europe/Amsterdam:20201014T200000
DTSTAMP:20260426T014916
CREATED:20200925T155406Z
LAST-MODIFIED:20200928T122332Z
UID:12055-1602702000-1602705600@centerofthesoul.nl
SUMMARY:Drakinar: de wondere wereld der draken 2
DESCRIPTION:We houden ons deze maand bezig met de zeer belangrijke aanwezigheid van de draken. Zonder hun interaktie kunnen we nl. de kosmische snelwegen niet hersteld krijgen\, laat staan aangekoppeld.\nIn het eerste Drakinar heb je kunnen leren en beseffen waarom de draken nodig zijn voor de opbouw van alle lichtstelsels in het universum.\nVoor wie daarvoor belangstelling heeft is dit Drakinar nog altijd te verkrijgen. Voor de prijs van 18 euro wordt je heel veel wijzer.\nHieronder vind je de link voor het tweede deel op woensdag 14 oktober om 19 uur\, uiteraard met replay\, zodat je op jouw tijd kunt kijken\, mocht 19 uur niet haalbaar zijn voor jou. Hierin gaan we kijken naar de aanpassingssystemen van de draken naar de fysieke werelden en hun taak daar in.\nhttps://center-of-the-soul.webinargeek.com/de-wondere-wereld-der-draken-2 \n 
URL:https://centerofthesoul.nl/agenda-item/drakinar-de-wondere-wereld-der-draken-2/
CATEGORIES:Groepssessie
ATTACH;FMTTYPE=image/jpeg:https://centerofthesoul.nl/wp-content/uploads/2020/09/vlinderdraak.jpg
ORGANIZER;CN="Center of the Soul":MAILTO:info@centerofthesoul.nl
END:VEVENT
END:VCALENDAR