BEGIN:VCALENDAR
VERSION:2.0
PRODID:-//Center of the Soul - ECPv6.15.20//NONSGML v1.0//EN
CALSCALE:GREGORIAN
METHOD:PUBLISH
X-ORIGINAL-URL:https://centerofthesoul.nl
X-WR-CALDESC:Evenementen voor Center of the Soul
REFRESH-INTERVAL;VALUE=DURATION:PT1H
X-Robots-Tag:noindex
X-PUBLISHED-TTL:PT1H
BEGIN:VTIMEZONE
TZID:Europe/Amsterdam
BEGIN:DAYLIGHT
TZOFFSETFROM:+0100
TZOFFSETTO:+0200
TZNAME:CEST
DTSTART:20200329T010000
END:DAYLIGHT
BEGIN:STANDARD
TZOFFSETFROM:+0200
TZOFFSETTO:+0100
TZNAME:CET
DTSTART:20201025T010000
END:STANDARD
BEGIN:DAYLIGHT
TZOFFSETFROM:+0100
TZOFFSETTO:+0200
TZNAME:CEST
DTSTART:20210328T010000
END:DAYLIGHT
BEGIN:STANDARD
TZOFFSETFROM:+0200
TZOFFSETTO:+0100
TZNAME:CET
DTSTART:20211031T010000
END:STANDARD
BEGIN:DAYLIGHT
TZOFFSETFROM:+0100
TZOFFSETTO:+0200
TZNAME:CEST
DTSTART:20220327T010000
END:DAYLIGHT
BEGIN:STANDARD
TZOFFSETFROM:+0200
TZOFFSETTO:+0100
TZNAME:CET
DTSTART:20221030T010000
END:STANDARD
END:VTIMEZONE
BEGIN:VEVENT
DTSTART;TZID=Europe/Amsterdam:20210409T133000
DTEND;TZID=Europe/Amsterdam:20210409T133000
DTSTAMP:20260425T132644
CREATED:20210403T100134Z
LAST-MODIFIED:20210403T100134Z
UID:12393-1617975000-1617975000@centerofthesoul.nl
SUMMARY:Webinar: Het zilveren vuur
DESCRIPTION:Via de webinars die ik nu al een jaar op tweewekelijkse basis geef\, heb ik veel informatie live  kunnen doorgeven aan iedereen die hiervoor interesse heeft. En wat blijkt: de werkkracht\, het inzicht en de processen die in het nu zichtbaar worden gemaakt\, worden direct in ons bewustzijn omhoog gehaald en geïntegreerd in het weten. Onze werkkracht is dusdanig sterk geworden\, dat de verbinding die hierin aanwezig is\, overeind staat als een huis. We staan sterk in onze nieuwe blauwdruk en zeker in deze heftige Paas/Pinkstertijd is dat belangrijker dan ooit. \nEr is momenteel een diepe uitzuivering gaande in alweer maar eens een diep verborgen astrale wereld. Het hoogste Moederlicht heeft zijn intrede gedaan in het wereldbewustzijn en dit licht dringt diep door tot in al onze DNA poorten\, met een krachtige uitwerking via de voorouderlijnen. \nBlijf dicht bij jezelf en laat je niet verleiden door de “buitenwerelden” om chaos te scheppen in jouw “binnenwerelden”. Via het aankomende webinar gaan we nog dieper in op deze grote zuiveringsprocessen.  En we vieren het feit dat het Moederlicht steeds meer aan terrein mag winnen\, in ons hart\, ons bewustzijn\, ons hele wezen. \nDit is de link voor het volgende webinar in dit thema:\nhttps://center-of-the-soul.webinargeek.com/het-zilveren-vuur \nEen replay is altijd beschikbaar\, zodat je ook op je eigen tijd rustig de informatie kan beluisteren en de energie die in deze webinars zit\, toe kan voegen aan je bewustzijn en werkkracht.
URL:https://centerofthesoul.nl/agenda-item/webinar-het-zilveren-vuur/
CATEGORIES:Groepssessie
ATTACH;FMTTYPE=image/jpeg:https://centerofthesoul.nl/wp-content/uploads/2021/04/starlight.jpg
END:VEVENT
END:VCALENDAR