BEGIN:VCALENDAR
VERSION:2.0
PRODID:-//Center of the Soul - ECPv6.15.20//NONSGML v1.0//EN
CALSCALE:GREGORIAN
METHOD:PUBLISH
X-WR-CALNAME:Center of the Soul
X-ORIGINAL-URL:https://centerofthesoul.nl
X-WR-CALDESC:Evenementen voor Center of the Soul
REFRESH-INTERVAL;VALUE=DURATION:PT1H
X-Robots-Tag:noindex
X-PUBLISHED-TTL:PT1H
BEGIN:VTIMEZONE
TZID:Europe/Amsterdam
BEGIN:DAYLIGHT
TZOFFSETFROM:+0100
TZOFFSETTO:+0200
TZNAME:CEST
DTSTART:20200329T010000
END:DAYLIGHT
BEGIN:STANDARD
TZOFFSETFROM:+0200
TZOFFSETTO:+0100
TZNAME:CET
DTSTART:20201025T010000
END:STANDARD
BEGIN:DAYLIGHT
TZOFFSETFROM:+0100
TZOFFSETTO:+0200
TZNAME:CEST
DTSTART:20210328T010000
END:DAYLIGHT
BEGIN:STANDARD
TZOFFSETFROM:+0200
TZOFFSETTO:+0100
TZNAME:CET
DTSTART:20211031T010000
END:STANDARD
BEGIN:DAYLIGHT
TZOFFSETFROM:+0100
TZOFFSETTO:+0200
TZNAME:CEST
DTSTART:20220327T010000
END:DAYLIGHT
BEGIN:STANDARD
TZOFFSETFROM:+0200
TZOFFSETTO:+0100
TZNAME:CET
DTSTART:20221030T010000
END:STANDARD
END:VTIMEZONE
BEGIN:VEVENT
DTSTART;TZID=Europe/Amsterdam:20210319T133000
DTEND;TZID=Europe/Amsterdam:20210319T150000
DTSTAMP:20260425T182308
CREATED:20210313T113135Z
LAST-MODIFIED:20210313T113135Z
UID:12358-1616160600-1616166000@centerofthesoul.nl
SUMMARY:Webinar: de zilveren Sfinx
DESCRIPTION:https://center-of-the-soul.webinargeek.com/de-zilveren-sfinx
URL:https://centerofthesoul.nl/agenda-item/webinar-de-zilveren-sfinx/
CATEGORIES:Groepssessie
ATTACH;FMTTYPE=image/png:https://centerofthesoul.nl/wp-content/uploads/2021/03/piramide10.png
END:VEVENT
BEGIN:VEVENT
DTSTART;TZID=Europe/Amsterdam:20210331T190000
DTEND;TZID=Europe/Amsterdam:20210331T200000
DTSTAMP:20260425T182308
CREATED:20210313T113445Z
LAST-MODIFIED:20210313T113646Z
UID:12362-1617217200-1617220800@centerofthesoul.nl
SUMMARY:Webinar: De wondere wereld der Dolfijnen 3
DESCRIPTION:https://center-of-the-soul.webinargeek.com/de-wondere-wereld-der-dolfijnen-3
URL:https://centerofthesoul.nl/agenda-item/de-wondere-wereld-der-dolfijnen-3/
CATEGORIES:Groepssessie
ATTACH;FMTTYPE=image/jpeg:https://centerofthesoul.nl/wp-content/uploads/2021/03/dolphins10.jpg
END:VEVENT
BEGIN:VEVENT
DTSTART;TZID=Europe/Amsterdam:20210409T133000
DTEND;TZID=Europe/Amsterdam:20210409T133000
DTSTAMP:20260425T182308
CREATED:20210403T100134Z
LAST-MODIFIED:20210403T100134Z
UID:12393-1617975000-1617975000@centerofthesoul.nl
SUMMARY:Webinar: Het zilveren vuur
DESCRIPTION:Via de webinars die ik nu al een jaar op tweewekelijkse basis geef\, heb ik veel informatie live  kunnen doorgeven aan iedereen die hiervoor interesse heeft. En wat blijkt: de werkkracht\, het inzicht en de processen die in het nu zichtbaar worden gemaakt\, worden direct in ons bewustzijn omhoog gehaald en geïntegreerd in het weten. Onze werkkracht is dusdanig sterk geworden\, dat de verbinding die hierin aanwezig is\, overeind staat als een huis. We staan sterk in onze nieuwe blauwdruk en zeker in deze heftige Paas/Pinkstertijd is dat belangrijker dan ooit. \nEr is momenteel een diepe uitzuivering gaande in alweer maar eens een diep verborgen astrale wereld. Het hoogste Moederlicht heeft zijn intrede gedaan in het wereldbewustzijn en dit licht dringt diep door tot in al onze DNA poorten\, met een krachtige uitwerking via de voorouderlijnen. \nBlijf dicht bij jezelf en laat je niet verleiden door de “buitenwerelden” om chaos te scheppen in jouw “binnenwerelden”. Via het aankomende webinar gaan we nog dieper in op deze grote zuiveringsprocessen.  En we vieren het feit dat het Moederlicht steeds meer aan terrein mag winnen\, in ons hart\, ons bewustzijn\, ons hele wezen. \nDit is de link voor het volgende webinar in dit thema:\nhttps://center-of-the-soul.webinargeek.com/het-zilveren-vuur \nEen replay is altijd beschikbaar\, zodat je ook op je eigen tijd rustig de informatie kan beluisteren en de energie die in deze webinars zit\, toe kan voegen aan je bewustzijn en werkkracht.
URL:https://centerofthesoul.nl/agenda-item/webinar-het-zilveren-vuur/
CATEGORIES:Groepssessie
ATTACH;FMTTYPE=image/jpeg:https://centerofthesoul.nl/wp-content/uploads/2021/04/starlight.jpg
END:VEVENT
BEGIN:VEVENT
DTSTART;TZID=Europe/Amsterdam:20210421T190000
DTEND;TZID=Europe/Amsterdam:20210421T200000
DTSTAMP:20260425T182308
CREATED:20210403T100408Z
LAST-MODIFIED:20210403T100408Z
UID:12396-1619031600-1619035200@centerofthesoul.nl
SUMMARY:Webinar: De wondere wereld der dolfijnen 4
DESCRIPTION:https://center-of-the-soul.webinargeek.com/de-wondere-wereld-der-dolfijnen-4
URL:https://centerofthesoul.nl/agenda-item/webinar-de-wondere-wereld-der-dolfijnen-4/
CATEGORIES:Groepssessie
ATTACH;FMTTYPE=image/jpeg:https://centerofthesoul.nl/wp-content/uploads/2021/02/414ad430.jpg
END:VEVENT
BEGIN:VEVENT
DTSTART;TZID=Europe/Amsterdam:20210430T133000
DTEND;TZID=Europe/Amsterdam:20210430T150000
DTSTAMP:20260425T182308
CREATED:20210425T100840Z
LAST-MODIFIED:20210425T101011Z
UID:12435-1619789400-1619794800@centerofthesoul.nl
SUMMARY:Webinar: Bevrijding
DESCRIPTION:https://center-of-the-soul.webinargeek.com/bevrijding \nHoe ons genetisch materiaal zich bevrijd van ongewenste aansluitingen en mutaties.
URL:https://centerofthesoul.nl/agenda-item/webinar-bevrijding/
CATEGORIES:Groepssessie
ATTACH;FMTTYPE=image/jpeg:https://centerofthesoul.nl/wp-content/uploads/2021/01/de-weg-naar-het-hart.jpg
END:VEVENT
BEGIN:VEVENT
DTSTART;TZID=Europe/Amsterdam:20210512T190000
DTEND;TZID=Europe/Amsterdam:20210512T200000
DTSTAMP:20260425T182308
CREATED:20210425T101259Z
LAST-MODIFIED:20210425T101259Z
UID:12439-1620846000-1620849600@centerofthesoul.nl
SUMMARY:De wondere wereld der dolfijnen 5
DESCRIPTION:https://center-of-the-soul.webinargeek.com/de-wondere-wereld-der-dolfijnen-5 \nEen nog diepere verbinding met onze watercodes\, genverandering\, waterwezens.
URL:https://centerofthesoul.nl/agenda-item/de-wondere-wereld-der-dolfijnen-5/
CATEGORIES:Groepssessie
ATTACH;FMTTYPE=image/jpeg:https://centerofthesoul.nl/wp-content/uploads/2021/01/3d-wallpapers-0048.jpg
END:VEVENT
BEGIN:VEVENT
DTSTART;TZID=Europe/Amsterdam:20210521T133000
DTEND;TZID=Europe/Amsterdam:20210521T150000
DTSTAMP:20260425T182308
CREATED:20210515T082653Z
LAST-MODIFIED:20210515T082653Z
UID:12451-1621603800-1621609200@centerofthesoul.nl
SUMMARY:Online webinar: Vrijheid.
DESCRIPTION:We veranderen ons DNA en bevrijden het van onlicht-formules. \nDe nieuwe tijd roept ons en we werken hard aan ons zelf om onze nieuwe zelven te ontwikkelen. \nIn dit webinar gaan we weer een stapje verder op het pad van vrijheid. \nhttps://center-of-the-soul.webinargeek.com/vrijheid
URL:https://centerofthesoul.nl/agenda-item/online-webinar-vrijheid/
CATEGORIES:Groepssessie
ATTACH;FMTTYPE=image/jpeg:https://centerofthesoul.nl/wp-content/uploads/2018/11/violet-dance.jpg
END:VEVENT
BEGIN:VEVENT
DTSTART;TZID=Europe/Amsterdam:20210602T190000
DTEND;TZID=Europe/Amsterdam:20210602T200000
DTSTAMP:20260425T182308
CREATED:20210515T083027Z
LAST-MODIFIED:20210515T083145Z
UID:12453-1622660400-1622664000@centerofthesoul.nl
SUMMARY:Online webinar: de wondere wereld der vogels.
DESCRIPTION:In dit webinar gaan we leren hoe belangrijk vogels zijn voor het welzijn van alle levende wezens op aarde. \nWelke lichtcodes dragen zij in zich\, wat is hun verbindende rol tussen hemel en aarde\, waar staan zij voor. \nEen heel leuk webinar over vrij bewegen in de ruimte. \nhttps://center-of-the-soul.webinargeek.com/de-wondere-wereld-der-vogels
URL:https://centerofthesoul.nl/agenda-item/online-webinar-de-wondere-wereld-der-vogels/
CATEGORIES:Groepssessie
ATTACH;FMTTYPE=image/jpeg:https://centerofthesoul.nl/wp-content/uploads/2021/05/IMG_0613.jpg
END:VEVENT
BEGIN:VEVENT
DTSTART;TZID=Europe/Amsterdam:20210611T133000
DTEND;TZID=Europe/Amsterdam:20210611T150000
DTSTAMP:20260425T182308
CREATED:20210603T102347Z
LAST-MODIFIED:20210603T102347Z
UID:12472-1623418200-1623423600@centerofthesoul.nl
SUMMARY:Webinar: De Oermoederkracht.
DESCRIPTION:In dit webinar gaan we zien hoe de instroom van het Moederlicht op Aarde\, van invloed is op de evolutie van al het leven hier. \nhttps://center-of-the-soul.webinargeek.com/de-oermoederkracht
URL:https://centerofthesoul.nl/agenda-item/webinar-de-oermoederkracht/
CATEGORIES:Groepssessie
ATTACH;FMTTYPE=image/jpeg:https://centerofthesoul.nl/wp-content/uploads/2021/06/moedergodin2.jpeg
END:VEVENT
BEGIN:VEVENT
DTSTART;TZID=Europe/Amsterdam:20210623T190000
DTEND;TZID=Europe/Amsterdam:20210623T200000
DTSTAMP:20260425T182308
CREATED:20210603T102815Z
LAST-MODIFIED:20210603T102815Z
UID:12475-1624474800-1624478400@centerofthesoul.nl
SUMMARY:Webinar: de wondere wereld der vogels 2
DESCRIPTION:In de wondere werelden ontdekken we verbindingen met het leven rondom ons\, die we voorheen niet kenden. En werken we met de energie en de kracht die deze wezens ( in dit geval de vogels) ons toesturen\, elke dag opnieuw. \n  \nhttps://center-of-the-soul.webinargeek.com/de-wondere-wereld-der-vogels-1
URL:https://centerofthesoul.nl/agenda-item/webinar-de-wondere-wereld-der-vogels-2/
CATEGORIES:Groepssessie
ATTACH;FMTTYPE=image/jpeg:https://centerofthesoul.nl/wp-content/uploads/2021/06/verena-wild-1.jpeg
END:VEVENT
END:VCALENDAR