BEGIN:VCALENDAR
VERSION:2.0
PRODID:-//Center of the Soul - ECPv6.15.20//NONSGML v1.0//EN
CALSCALE:GREGORIAN
METHOD:PUBLISH
X-WR-CALNAME:Center of the Soul
X-ORIGINAL-URL:https://centerofthesoul.nl
X-WR-CALDESC:Evenementen voor Center of the Soul
REFRESH-INTERVAL;VALUE=DURATION:PT1H
X-Robots-Tag:noindex
X-PUBLISHED-TTL:PT1H
BEGIN:VTIMEZONE
TZID:Europe/Amsterdam
BEGIN:DAYLIGHT
TZOFFSETFROM:+0100
TZOFFSETTO:+0200
TZNAME:CEST
DTSTART:20210328T010000
END:DAYLIGHT
BEGIN:STANDARD
TZOFFSETFROM:+0200
TZOFFSETTO:+0100
TZNAME:CET
DTSTART:20211031T010000
END:STANDARD
BEGIN:DAYLIGHT
TZOFFSETFROM:+0100
TZOFFSETTO:+0200
TZNAME:CEST
DTSTART:20220327T010000
END:DAYLIGHT
BEGIN:STANDARD
TZOFFSETFROM:+0200
TZOFFSETTO:+0100
TZNAME:CET
DTSTART:20221030T010000
END:STANDARD
BEGIN:DAYLIGHT
TZOFFSETFROM:+0100
TZOFFSETTO:+0200
TZNAME:CEST
DTSTART:20230326T010000
END:DAYLIGHT
BEGIN:STANDARD
TZOFFSETFROM:+0200
TZOFFSETTO:+0100
TZNAME:CET
DTSTART:20231029T010000
END:STANDARD
END:VTIMEZONE
BEGIN:VEVENT
DTSTART;TZID=Europe/Amsterdam:20220401T133000
DTEND;TZID=Europe/Amsterdam:20220401T150000
DTSTAMP:20260426T004545
CREATED:20220328T150135Z
LAST-MODIFIED:20220328T150135Z
UID:12604-1648819800-1648825200@centerofthesoul.nl
SUMMARY:De poorten van Avalon.
DESCRIPTION:https://center-of-the-soul.webinargeek.com/de-poorten-van-avalon
URL:https://centerofthesoul.nl/agenda-item/de-poorten-van-avalon/
CATEGORIES:Webinars
ATTACH;FMTTYPE=image/jpeg:https://centerofthesoul.nl/wp-content/uploads/2020/10/healing-power-of-love.jpg
END:VEVENT
BEGIN:VEVENT
DTSTART;TZID=Europe/Amsterdam:20220413T190000
DTEND;TZID=Europe/Amsterdam:20220413T200000
DTSTAMP:20260426T004545
CREATED:20220328T150429Z
LAST-MODIFIED:20220328T150429Z
UID:12606-1649876400-1649880000@centerofthesoul.nl
SUMMARY:Het bad van licht. Geleide meditatie.
DESCRIPTION:https://center-of-the-soul.webinargeek.com/geleide-meditatie-het-bad-van-licht \nEen geleide meditatie  die er op gericht is om meer balans en licht in ons celbewustzijn te scheppen.
URL:https://centerofthesoul.nl/agenda-item/het-bad-van-licht-geleide-meditatie/
CATEGORIES:Webinars
ATTACH;FMTTYPE=image/jpeg:https://centerofthesoul.nl/wp-content/uploads/2020/08/regenboog-hand.jpg
END:VEVENT
BEGIN:VEVENT
DTSTART;TZID=Europe/Amsterdam:20220422T133000
DTEND;TZID=Europe/Amsterdam:20220422T150000
DTSTAMP:20260426T004545
CREATED:20220415T090555Z
LAST-MODIFIED:20220415T090555Z
UID:12609-1650634200-1650639600@centerofthesoul.nl
SUMMARY:Avalon deel 2
DESCRIPTION:webinar : \nhttps://center-of-the-soul.webinargeek.com/de-poorten-van-avalon-2
URL:https://centerofthesoul.nl/agenda-item/avalon-deel-2/
CATEGORIES:Webinars
ATTACH;FMTTYPE=image/jpeg:https://centerofthesoul.nl/wp-content/uploads/2021/06/IMG_1304.jpg
END:VEVENT
END:VCALENDAR