BEGIN:VCALENDAR
VERSION:2.0
PRODID:-//Center of the Soul - ECPv6.15.20//NONSGML v1.0//EN
CALSCALE:GREGORIAN
METHOD:PUBLISH
X-ORIGINAL-URL:https://centerofthesoul.nl
X-WR-CALDESC:Evenementen voor Center of the Soul
REFRESH-INTERVAL;VALUE=DURATION:PT1H
X-Robots-Tag:noindex
X-PUBLISHED-TTL:PT1H
BEGIN:VTIMEZONE
TZID:Europe/Amsterdam
BEGIN:DAYLIGHT
TZOFFSETFROM:+0100
TZOFFSETTO:+0200
TZNAME:CEST
DTSTART:20210328T010000
END:DAYLIGHT
BEGIN:STANDARD
TZOFFSETFROM:+0200
TZOFFSETTO:+0100
TZNAME:CET
DTSTART:20211031T010000
END:STANDARD
BEGIN:DAYLIGHT
TZOFFSETFROM:+0100
TZOFFSETTO:+0200
TZNAME:CEST
DTSTART:20220327T010000
END:DAYLIGHT
BEGIN:STANDARD
TZOFFSETFROM:+0200
TZOFFSETTO:+0100
TZNAME:CET
DTSTART:20221030T010000
END:STANDARD
BEGIN:DAYLIGHT
TZOFFSETFROM:+0100
TZOFFSETTO:+0200
TZNAME:CEST
DTSTART:20230326T010000
END:DAYLIGHT
BEGIN:STANDARD
TZOFFSETFROM:+0200
TZOFFSETTO:+0100
TZNAME:CET
DTSTART:20231029T010000
END:STANDARD
END:VTIMEZONE
BEGIN:VEVENT
DTSTART;TZID=Europe/Amsterdam:20220624T133000
DTEND;TZID=Europe/Amsterdam:20220624T150000
DTSTAMP:20260425T172427
CREATED:20220618T093506Z
LAST-MODIFIED:20220618T093506Z
UID:12625-1656077400-1656082800@centerofthesoul.nl
SUMMARY:Webinar:Het Sint Jansvuur
DESCRIPTION:https://center-of-the-soul.webinargeek.com/het-sint-jansvuur \n  \nHoog gekwalificeerd licht is sinds Pinksteren aktief in ons bewustzijn. We hebben hiermee het Christusatoom gebouwd. Een zuiver\, gesloten circuit dat als een  soort snelkookpan fungeert. We maken in zeer snel tempo veel meer en helderder licht aan. Dat is nodig\, omdat we de laatste rasters van het onlicht gaan doorbranden\, omsmelten en verwijderen uit ons systeem en uit het collectief van de planeet.\nDit is een zeer heftige maand\, de Lucifercode 6-6-6 is tot in zijn diepste kern aangeraakt en vergruizelt.\nWe zijn met duizenden tegelijk afgedaald sinds begin juni om de vrije energiestroom los te krijgen en dat is gelukt. 3\,6\,9 juni waren de belangrijkste dagen hierin. De volle maan van 14 juni heeft dit nog eens extra bekrachtigd. En nu gaan we er een schepje bovenop doen door kosmisch vuur\, aardevuur en hartenvuur samen te smelten. Dit licht raast door de tijdslijnen en gaat alles verbranden wat op “ON” is gebaseerd.
URL:https://centerofthesoul.nl/agenda-item/webinarhet-sint-jansvuur/
CATEGORIES:Webinars
ATTACH;FMTTYPE=image/jpeg:https://centerofthesoul.nl/wp-content/uploads/2020/04/10380741_10153010817462716_2060588075512874784_n.jpg
END:VEVENT
END:VCALENDAR