BEGIN:VCALENDAR
VERSION:2.0
PRODID:-//Center of the Soul - ECPv6.15.20//NONSGML v1.0//EN
CALSCALE:GREGORIAN
METHOD:PUBLISH
X-ORIGINAL-URL:https://centerofthesoul.nl
X-WR-CALDESC:Evenementen voor Center of the Soul
REFRESH-INTERVAL;VALUE=DURATION:PT1H
X-Robots-Tag:noindex
X-PUBLISHED-TTL:PT1H
BEGIN:VTIMEZONE
TZID:Europe/Amsterdam
BEGIN:DAYLIGHT
TZOFFSETFROM:+0100
TZOFFSETTO:+0200
TZNAME:CEST
DTSTART:20210328T010000
END:DAYLIGHT
BEGIN:STANDARD
TZOFFSETFROM:+0200
TZOFFSETTO:+0100
TZNAME:CET
DTSTART:20211031T010000
END:STANDARD
BEGIN:DAYLIGHT
TZOFFSETFROM:+0100
TZOFFSETTO:+0200
TZNAME:CEST
DTSTART:20220327T010000
END:DAYLIGHT
BEGIN:STANDARD
TZOFFSETFROM:+0200
TZOFFSETTO:+0100
TZNAME:CET
DTSTART:20221030T010000
END:STANDARD
BEGIN:DAYLIGHT
TZOFFSETFROM:+0100
TZOFFSETTO:+0200
TZNAME:CEST
DTSTART:20230326T010000
END:DAYLIGHT
BEGIN:STANDARD
TZOFFSETFROM:+0200
TZOFFSETTO:+0100
TZNAME:CET
DTSTART:20231029T010000
END:STANDARD
END:VTIMEZONE
BEGIN:VEVENT
DTSTART;TZID=Europe/Amsterdam:20220706T190000
DTEND;TZID=Europe/Amsterdam:20220706T200000
DTSTAMP:20260425T143203
CREATED:20220618T093701Z
LAST-MODIFIED:20220618T093701Z
UID:12627-1657134000-1657137600@centerofthesoul.nl
SUMMARY:Webinar:Celverlichting 2
DESCRIPTION:https://center-of-the-soul.webinargeek.com/celverlichting- \n  \nWe blijven ons bewustzijn doorspoelen en voeden met de hoogste trillingen van licht. Dit is nodig om de ruimte vrij te maken waarin ons nieuwe zelfzijn wordt geïntegreerd. De plakkracht van het oude zelf wordt er uit gewassen\, de aanhechtingen verbrand.\nDe weder opstanding van ons diepste Zelf komt er aan. \nDe andere vier webinar lichtbaden zijn nog steeds verkrijgbaar. Neem contact met mij op om hen te ontvangen. Het is de moeite waard.
URL:https://centerofthesoul.nl/agenda-item/webinarcelverlichting-2/
CATEGORIES:Webinars
ATTACH;FMTTYPE=image/jpeg:https://centerofthesoul.nl/wp-content/uploads/2021/09/light20.jpg
END:VEVENT
BEGIN:VEVENT
DTSTART;TZID=Europe/Amsterdam:20220715T133000
DTEND;TZID=Europe/Amsterdam:20220715T150000
DTSTAMP:20260425T143203
CREATED:20220711T170625Z
LAST-MODIFIED:20220711T170625Z
UID:12631-1657891800-1657897200@centerofthesoul.nl
SUMMARY:Webinar: Groeien in bewust ZIJN
DESCRIPTION:https://center-of-the-soul.webinargeek.com/groeien-in-bewust-zijn
URL:https://centerofthesoul.nl/agenda-item/webinar-groeien-in-bewust-zijn/
CATEGORIES:Webinars
ATTACH;FMTTYPE=image/jpeg:https://centerofthesoul.nl/wp-content/uploads/2021/11/rainbow-spiral1.jpg
END:VEVENT
BEGIN:VEVENT
DTSTART;TZID=Europe/Amsterdam:20220727T190000
DTEND;TZID=Europe/Amsterdam:20220727T200000
DTSTAMP:20260425T143203
CREATED:20220711T170749Z
LAST-MODIFIED:20220711T170749Z
UID:12633-1658948400-1658952000@centerofthesoul.nl
SUMMARY:Webinar: celresonantie
DESCRIPTION:https://center-of-the-soul.webinargeek.com/celresonantie
URL:https://centerofthesoul.nl/agenda-item/webinar-celresonantie/
CATEGORIES:Webinars
ATTACH;FMTTYPE=image/jpeg:https://centerofthesoul.nl/wp-content/uploads/2021/06/ce8c24_22d452d15c85469dadb74a969af8fde9.jpg
END:VEVENT
END:VCALENDAR