BEGIN:VCALENDAR
VERSION:2.0
PRODID:-//Center of the Soul - ECPv6.15.20//NONSGML v1.0//EN
CALSCALE:GREGORIAN
METHOD:PUBLISH
X-ORIGINAL-URL:https://centerofthesoul.nl
X-WR-CALDESC:Evenementen voor Center of the Soul
REFRESH-INTERVAL;VALUE=DURATION:PT1H
X-Robots-Tag:noindex
X-PUBLISHED-TTL:PT1H
BEGIN:VTIMEZONE
TZID:Europe/Amsterdam
BEGIN:DAYLIGHT
TZOFFSETFROM:+0100
TZOFFSETTO:+0200
TZNAME:CEST
DTSTART:20230326T010000
END:DAYLIGHT
BEGIN:STANDARD
TZOFFSETFROM:+0200
TZOFFSETTO:+0100
TZNAME:CET
DTSTART:20231029T010000
END:STANDARD
BEGIN:DAYLIGHT
TZOFFSETFROM:+0100
TZOFFSETTO:+0200
TZNAME:CEST
DTSTART:20240331T010000
END:DAYLIGHT
BEGIN:STANDARD
TZOFFSETFROM:+0200
TZOFFSETTO:+0100
TZNAME:CET
DTSTART:20241027T010000
END:STANDARD
BEGIN:DAYLIGHT
TZOFFSETFROM:+0100
TZOFFSETTO:+0200
TZNAME:CEST
DTSTART:20250330T010000
END:DAYLIGHT
BEGIN:STANDARD
TZOFFSETFROM:+0200
TZOFFSETTO:+0100
TZNAME:CET
DTSTART:20251026T010000
END:STANDARD
END:VTIMEZONE
BEGIN:VEVENT
DTSTART;TZID=Europe/Amsterdam:20240503T133000
DTEND;TZID=Europe/Amsterdam:20240503T150000
DTSTAMP:20260421T143700
CREATED:20240426T074452Z
LAST-MODIFIED:20240426T074452Z
UID:15541-1714743000-1714748400@centerofthesoul.nl
SUMMARY:Webinar: Kernkracht.
DESCRIPTION:https://center-of-the-soul.webinargeek.com/kernkracht
URL:https://centerofthesoul.nl/agenda-item/webinar-kernkracht/
CATEGORIES:Webinars
ATTACH;FMTTYPE=image/jpeg:https://centerofthesoul.nl/wp-content/uploads/2021/01/radiate.jpg
END:VEVENT
BEGIN:VEVENT
DTSTART;TZID=Europe/Amsterdam:20240515T190000
DTEND;TZID=Europe/Amsterdam:20240515T200000
DTSTAMP:20260421T143700
CREATED:20240426T074246Z
LAST-MODIFIED:20240426T074246Z
UID:15539-1715799600-1715803200@centerofthesoul.nl
SUMMARY:Webinar: groen licht
DESCRIPTION:https://center-of-the-soul.webinargeek.com/groen-licht
URL:https://centerofthesoul.nl/agenda-item/webinar-groen-licht/
CATEGORIES:Webinars
ATTACH;FMTTYPE=image/jpeg:https://centerofthesoul.nl/wp-content/uploads/2023/03/drakenlicht-ijsland.jpg
END:VEVENT
BEGIN:VEVENT
DTSTART;TZID=Europe/Amsterdam:20240524T133000
DTEND;TZID=Europe/Amsterdam:20240524T150000
DTSTAMP:20260421T143700
CREATED:20240521T121544Z
LAST-MODIFIED:20240521T121544Z
UID:15700-1716557400-1716562800@centerofthesoul.nl
SUMMARY:Webinar: we shall overcome.
DESCRIPTION:https://center-of-the-soul.webinargeek.com/we-shall-overcome
URL:https://centerofthesoul.nl/agenda-item/webinar-we-shall-overcome/
CATEGORIES:Webinars
ATTACH;FMTTYPE=image/jpeg:https://centerofthesoul.nl/wp-content/uploads/2023/03/drakenlicht-ijsland.jpg
END:VEVENT
END:VCALENDAR