BEGIN:VCALENDAR
VERSION:2.0
PRODID:-//Center of the Soul - ECPv6.15.20//NONSGML v1.0//EN
CALSCALE:GREGORIAN
METHOD:PUBLISH
X-WR-CALNAME:Center of the Soul
X-ORIGINAL-URL:https://centerofthesoul.nl
X-WR-CALDESC:Evenementen voor Center of the Soul
REFRESH-INTERVAL;VALUE=DURATION:PT1H
X-Robots-Tag:noindex
X-PUBLISHED-TTL:PT1H
BEGIN:VTIMEZONE
TZID:Europe/Amsterdam
BEGIN:DAYLIGHT
TZOFFSETFROM:+0100
TZOFFSETTO:+0200
TZNAME:CEST
DTSTART:20230326T010000
END:DAYLIGHT
BEGIN:STANDARD
TZOFFSETFROM:+0200
TZOFFSETTO:+0100
TZNAME:CET
DTSTART:20231029T010000
END:STANDARD
BEGIN:DAYLIGHT
TZOFFSETFROM:+0100
TZOFFSETTO:+0200
TZNAME:CEST
DTSTART:20240331T010000
END:DAYLIGHT
BEGIN:STANDARD
TZOFFSETFROM:+0200
TZOFFSETTO:+0100
TZNAME:CET
DTSTART:20241027T010000
END:STANDARD
BEGIN:DAYLIGHT
TZOFFSETFROM:+0100
TZOFFSETTO:+0200
TZNAME:CEST
DTSTART:20250330T010000
END:DAYLIGHT
BEGIN:STANDARD
TZOFFSETFROM:+0200
TZOFFSETTO:+0100
TZNAME:CET
DTSTART:20251026T010000
END:STANDARD
END:VTIMEZONE
BEGIN:VEVENT
DTSTART;TZID=Europe/Amsterdam:20241009T190000
DTEND;TZID=Europe/Amsterdam:20241009T200000
DTSTAMP:20260420T202729
CREATED:20240920T075402Z
LAST-MODIFIED:20240920T075402Z
UID:18661-1728500400-1728504000@centerofthesoul.nl
SUMMARY:Webinar: Wij zijn licht.
DESCRIPTION:https://center-of-the-soul.webinargeek.com/wij-zijn-licht
URL:https://centerofthesoul.nl/agenda-item/webinar-wij-zijn-licht/
CATEGORIES:Webinars
ATTACH;FMTTYPE=image/jpeg:https://centerofthesoul.nl/wp-content/uploads/2020/11/flower-of-life.jpg
END:VEVENT
BEGIN:VEVENT
DTSTART;TZID=Europe/Amsterdam:20241018T133000
DTEND;TZID=Europe/Amsterdam:20241018T150000
DTSTAMP:20260420T202729
CREATED:20241011T092555Z
LAST-MODIFIED:20241011T092555Z
UID:18985-1729258200-1729263600@centerofthesoul.nl
SUMMARY:Albewustzijn.
DESCRIPTION:https://center-of-the-soul.webinargeek.com/albewustzijn
URL:https://centerofthesoul.nl/agenda-item/albewustzijn/
CATEGORIES:Webinars
ATTACH;FMTTYPE=image/jpeg:https://centerofthesoul.nl/wp-content/uploads/2021/06/IMG_1304.jpg
END:VEVENT
BEGIN:VEVENT
DTSTART;TZID=Europe/Amsterdam:20241030T190000
DTEND;TZID=Europe/Amsterdam:20241030T200000
DTSTAMP:20260420T202729
CREATED:20241011T092359Z
LAST-MODIFIED:20241011T092359Z
UID:18983-1730314800-1730318400@centerofthesoul.nl
SUMMARY:Beweging.
DESCRIPTION:https://center-of-the-soul.webinargeek.com/beweging
URL:https://centerofthesoul.nl/agenda-item/beweging/
CATEGORIES:Webinars
ATTACH;FMTTYPE=image/jpeg:https://centerofthesoul.nl/wp-content/uploads/2021/06/ce8c24_22d452d15c85469dadb74a969af8fde9.jpg
END:VEVENT
END:VCALENDAR