BEGIN:VCALENDAR
VERSION:2.0
PRODID:-//Center of the Soul - ECPv6.15.20//NONSGML v1.0//EN
CALSCALE:GREGORIAN
METHOD:PUBLISH
X-ORIGINAL-URL:https://centerofthesoul.nl
X-WR-CALDESC:Evenementen voor Center of the Soul
REFRESH-INTERVAL;VALUE=DURATION:PT1H
X-Robots-Tag:noindex
X-PUBLISHED-TTL:PT1H
BEGIN:VTIMEZONE
TZID:Europe/Amsterdam
BEGIN:DAYLIGHT
TZOFFSETFROM:+0100
TZOFFSETTO:+0200
TZNAME:CEST
DTSTART:20210328T010000
END:DAYLIGHT
BEGIN:STANDARD
TZOFFSETFROM:+0200
TZOFFSETTO:+0100
TZNAME:CET
DTSTART:20211031T010000
END:STANDARD
BEGIN:DAYLIGHT
TZOFFSETFROM:+0100
TZOFFSETTO:+0200
TZNAME:CEST
DTSTART:20220327T010000
END:DAYLIGHT
BEGIN:STANDARD
TZOFFSETFROM:+0200
TZOFFSETTO:+0100
TZNAME:CET
DTSTART:20221030T010000
END:STANDARD
BEGIN:DAYLIGHT
TZOFFSETFROM:+0100
TZOFFSETTO:+0200
TZNAME:CEST
DTSTART:20230326T010000
END:DAYLIGHT
BEGIN:STANDARD
TZOFFSETFROM:+0200
TZOFFSETTO:+0100
TZNAME:CET
DTSTART:20231029T010000
END:STANDARD
END:VTIMEZONE
BEGIN:VEVENT
DTSTART;TZID=Europe/Amsterdam:20220422T133000
DTEND;TZID=Europe/Amsterdam:20220422T150000
DTSTAMP:20260426T020636
CREATED:20220415T090555Z
LAST-MODIFIED:20220415T090555Z
UID:12609-1650634200-1650639600@centerofthesoul.nl
SUMMARY:Avalon deel 2
DESCRIPTION:webinar : \nhttps://center-of-the-soul.webinargeek.com/de-poorten-van-avalon-2
URL:https://centerofthesoul.nl/agenda-item/avalon-deel-2/
CATEGORIES:Webinars
ATTACH;FMTTYPE=image/jpeg:https://centerofthesoul.nl/wp-content/uploads/2021/06/IMG_1304.jpg
END:VEVENT
END:VCALENDAR