BEGIN:VCALENDAR
VERSION:2.0
PRODID:-//Center of the Soul - ECPv6.15.20//NONSGML v1.0//EN
CALSCALE:GREGORIAN
METHOD:PUBLISH
X-WR-CALNAME:Center of the Soul
X-ORIGINAL-URL:https://centerofthesoul.nl
X-WR-CALDESC:Evenementen voor Center of the Soul
REFRESH-INTERVAL;VALUE=DURATION:PT1H
X-Robots-Tag:noindex
X-PUBLISHED-TTL:PT1H
BEGIN:VTIMEZONE
TZID:Europe/Amsterdam
BEGIN:DAYLIGHT
TZOFFSETFROM:+0100
TZOFFSETTO:+0200
TZNAME:CEST
DTSTART:20250330T010000
END:DAYLIGHT
BEGIN:STANDARD
TZOFFSETFROM:+0200
TZOFFSETTO:+0100
TZNAME:CET
DTSTART:20251026T010000
END:STANDARD
BEGIN:DAYLIGHT
TZOFFSETFROM:+0100
TZOFFSETTO:+0200
TZNAME:CEST
DTSTART:20260329T010000
END:DAYLIGHT
BEGIN:STANDARD
TZOFFSETFROM:+0200
TZOFFSETTO:+0100
TZNAME:CET
DTSTART:20261025T010000
END:STANDARD
BEGIN:DAYLIGHT
TZOFFSETFROM:+0100
TZOFFSETTO:+0200
TZNAME:CEST
DTSTART:20270328T010000
END:DAYLIGHT
BEGIN:STANDARD
TZOFFSETFROM:+0200
TZOFFSETTO:+0100
TZNAME:CET
DTSTART:20271031T010000
END:STANDARD
END:VTIMEZONE
BEGIN:VEVENT
DTSTART;TZID=Europe/Amsterdam:20260327T133000
DTEND;TZID=Europe/Amsterdam:20260327T150000
DTSTAMP:20260419T225534
CREATED:20260313T095414Z
LAST-MODIFIED:20260313T095414Z
UID:38599-1774618200-1774623600@centerofthesoul.nl
SUMMARY:Hartenwaterplasma.
DESCRIPTION:https://center-of-the-soul.webinargeek.com/hartenwaterplasma
URL:https://centerofthesoul.nl/agenda-item/hartenwaterplasma/
CATEGORIES:Webinars
ATTACH;FMTTYPE=image/jpeg:https://centerofthesoul.nl/wp-content/uploads/2023/10/de-weg-naar-het-hart2-1.jpg
END:VEVENT
BEGIN:VEVENT
DTSTART;TZID=Europe/Amsterdam:20260408T190000
DTEND;TZID=Europe/Amsterdam:20260408T200000
DTSTAMP:20260419T225534
CREATED:20260313T095618Z
LAST-MODIFIED:20260313T095618Z
UID:38601-1775674800-1775678400@centerofthesoul.nl
SUMMARY:Opstaan in Liefde.
DESCRIPTION:https://center-of-the-soul.webinargeek.com/opstaan-in-liefde
URL:https://centerofthesoul.nl/agenda-item/opstaan-in-liefde/
CATEGORIES:Webinars
ATTACH;FMTTYPE=image/jpeg:https://centerofthesoul.nl/wp-content/uploads/2021/06/IMG_1304.jpg
END:VEVENT
BEGIN:VEVENT
DTSTART;TZID=Europe/Amsterdam:20260417T133000
DTEND;TZID=Europe/Amsterdam:20260417T150000
DTSTAMP:20260419T225534
CREATED:20260410T082851Z
LAST-MODIFIED:20260410T082851Z
UID:38605-1776432600-1776438000@centerofthesoul.nl
SUMMARY:Het nieuwe begin.
DESCRIPTION:https://center-of-the-soul.webinargeek.com/het-nieuwe-begin
URL:https://centerofthesoul.nl/agenda-item/het-nieuwe-begin/
CATEGORIES:Webinars
ATTACH;FMTTYPE=image/jpeg:https://centerofthesoul.nl/wp-content/uploads/2026/04/christdance.jpg
END:VEVENT
BEGIN:VEVENT
DTSTART;TZID=Europe/Amsterdam:20260429T190000
DTEND;TZID=Europe/Amsterdam:20260429T200000
DTSTAMP:20260419T225534
CREATED:20260410T083035Z
LAST-MODIFIED:20260410T083035Z
UID:38610-1777489200-1777492800@centerofthesoul.nl
SUMMARY:Pure verbinding.
DESCRIPTION:https://center-of-the-soul.webinargeek.com/pure-verbinding
URL:https://centerofthesoul.nl/agenda-item/pure-verbinding/
CATEGORIES:Webinars
ATTACH;FMTTYPE=image/jpeg:https://centerofthesoul.nl/wp-content/uploads/2026/04/bride-of-christ.jpg
END:VEVENT
BEGIN:VEVENT
DTSTART;TZID=Europe/Amsterdam:20260515T133000
DTEND;TZID=Europe/Amsterdam:20260515T150000
DTSTAMP:20260419T225534
CREATED:20260410T083156Z
LAST-MODIFIED:20260410T083156Z
UID:38612-1778851800-1778857200@centerofthesoul.nl
SUMMARY:De kosmische bruiloft.
DESCRIPTION:https://center-of-the-soul.webinargeek.com/de-kosmische-bruiloft
URL:https://centerofthesoul.nl/agenda-item/de-kosmische-bruiloft/
CATEGORIES:Webinars
ATTACH;FMTTYPE=image/jpeg:https://centerofthesoul.nl/wp-content/uploads/2026/04/christ-children.jpg
END:VEVENT
END:VCALENDAR