BEGIN:VCALENDAR
VERSION:2.0
PRODID:-//Center of the Soul - ECPv6.15.20//NONSGML v1.0//EN
CALSCALE:GREGORIAN
METHOD:PUBLISH
X-ORIGINAL-URL:https://centerofthesoul.nl
X-WR-CALDESC:Evenementen voor Center of the Soul
REFRESH-INTERVAL;VALUE=DURATION:PT1H
X-Robots-Tag:noindex
X-PUBLISHED-TTL:PT1H
BEGIN:VTIMEZONE
TZID:Europe/Amsterdam
BEGIN:DAYLIGHT
TZOFFSETFROM:+0100
TZOFFSETTO:+0200
TZNAME:CEST
DTSTART:20240331T010000
END:DAYLIGHT
BEGIN:STANDARD
TZOFFSETFROM:+0200
TZOFFSETTO:+0100
TZNAME:CET
DTSTART:20241027T010000
END:STANDARD
BEGIN:DAYLIGHT
TZOFFSETFROM:+0100
TZOFFSETTO:+0200
TZNAME:CEST
DTSTART:20250330T010000
END:DAYLIGHT
BEGIN:STANDARD
TZOFFSETFROM:+0200
TZOFFSETTO:+0100
TZNAME:CET
DTSTART:20251026T010000
END:STANDARD
BEGIN:DAYLIGHT
TZOFFSETFROM:+0100
TZOFFSETTO:+0200
TZNAME:CEST
DTSTART:20260329T010000
END:DAYLIGHT
BEGIN:STANDARD
TZOFFSETFROM:+0200
TZOFFSETTO:+0100
TZNAME:CET
DTSTART:20261025T010000
END:STANDARD
BEGIN:DAYLIGHT
TZOFFSETFROM:+0100
TZOFFSETTO:+0200
TZNAME:CEST
DTSTART:20270328T010000
END:DAYLIGHT
BEGIN:STANDARD
TZOFFSETFROM:+0200
TZOFFSETTO:+0100
TZNAME:CET
DTSTART:20271031T010000
END:STANDARD
END:VTIMEZONE
BEGIN:VEVENT
DTSTART;TZID=Europe/Amsterdam:20251017T133000
DTEND;TZID=Europe/Amsterdam:20251017T150000
DTSTAMP:20260420T005942
CREATED:20251003T080345Z
LAST-MODIFIED:20251003T080345Z
UID:35751-1760707800-1760713200@centerofthesoul.nl
SUMMARY:Essentielicht.
DESCRIPTION:https://center-of-the-soul.webinargeek.com/essentielicht
URL:https://centerofthesoul.nl/agenda-item/essentielicht/
CATEGORIES:Webinars
ATTACH;FMTTYPE=image/jpeg:https://centerofthesoul.nl/wp-content/uploads/2020/11/eenhoorn-en-bloemen.jpg
END:VEVENT
BEGIN:VEVENT
DTSTART;TZID=Europe/Amsterdam:20251029T190000
DTEND;TZID=Europe/Amsterdam:20251029T200000
DTSTAMP:20260420T005942
CREATED:20251022T091608Z
LAST-MODIFIED:20251022T091608Z
UID:35845-1761764400-1761768000@centerofthesoul.nl
SUMMARY:Yin en Yang
DESCRIPTION:https://center-of-the-soul.webinargeek.com/yin-en-yang
URL:https://centerofthesoul.nl/agenda-item/yin-en-yang/
CATEGORIES:Webinars
END:VEVENT
BEGIN:VEVENT
DTSTART;TZID=Europe/Amsterdam:20251114T133000
DTEND;TZID=Europe/Amsterdam:20251114T150000
DTSTAMP:20260420T005942
CREATED:20251022T091147Z
LAST-MODIFIED:20251022T091147Z
UID:35843-1763127000-1763132400@centerofthesoul.nl
SUMMARY:Alles in beweging.
DESCRIPTION:https://center-of-the-soul.webinargeek.com/alles-in-beweging
URL:https://centerofthesoul.nl/agenda-item/alles-in-beweging/
CATEGORIES:Webinars
ATTACH;FMTTYPE=image/jpeg:https://centerofthesoul.nl/wp-content/uploads/2020/07/dimensie-elf.jpg
END:VEVENT
BEGIN:VEVENT
DTSTART;TZID=Europe/Amsterdam:20251126T190000
DTEND;TZID=Europe/Amsterdam:20251126T200000
DTSTAMP:20260420T005942
CREATED:20251119T134228Z
LAST-MODIFIED:20251119T134228Z
UID:36286-1764183600-1764187200@centerofthesoul.nl
SUMMARY:Het groeiende licht.
DESCRIPTION:https://center-of-the-soul.webinargeek.com/het-groeiende-licht
URL:https://centerofthesoul.nl/agenda-item/het-groeiende-licht/
CATEGORIES:Webinars
ATTACH;FMTTYPE=image/jpeg:https://centerofthesoul.nl/wp-content/uploads/2025/11/i-am-a-soul-of-love.jpg
END:VEVENT
BEGIN:VEVENT
DTSTART;TZID=Europe/Amsterdam:20251205T133000
DTEND;TZID=Europe/Amsterdam:20251205T150000
DTSTAMP:20260420T005942
CREATED:20251119T134423Z
LAST-MODIFIED:20251119T134423Z
UID:36289-1764941400-1764946800@centerofthesoul.nl
SUMMARY:De nieuwe klanken.
DESCRIPTION:https://center-of-the-soul.webinargeek.com/de-nieuwe-klanken
URL:https://centerofthesoul.nl/agenda-item/de-nieuwe-klanken/
CATEGORIES:Webinars
ATTACH;FMTTYPE=image/jpeg:https://centerofthesoul.nl/wp-content/uploads/2021/09/light20.jpg
END:VEVENT
BEGIN:VEVENT
DTSTART;TZID=Europe/Amsterdam:20251219T133000
DTEND;TZID=Europe/Amsterdam:20251219T150000
DTSTAMP:20260420T005942
CREATED:20251119T134604Z
LAST-MODIFIED:20251119T134604Z
UID:36291-1766151000-1766156400@centerofthesoul.nl
SUMMARY:Wedergeboorte.
DESCRIPTION:https://center-of-the-soul.webinargeek.com/wedergeboorte-1
URL:https://centerofthesoul.nl/agenda-item/wedergeboorte/
CATEGORIES:Webinars
ATTACH;FMTTYPE=image/jpeg:https://centerofthesoul.nl/wp-content/uploads/2021/06/earth-grid.jpg
END:VEVENT
BEGIN:VEVENT
DTSTART;TZID=Europe/Amsterdam:20260114T190000
DTEND;TZID=Europe/Amsterdam:20260114T200000
DTSTAMP:20260420T005942
CREATED:20260107T102716Z
LAST-MODIFIED:20260107T102716Z
UID:37267-1768417200-1768420800@centerofthesoul.nl
SUMMARY:Stralend Zijn.
DESCRIPTION:https://center-of-the-soul.webinargeek.com/stralend-zijn
URL:https://centerofthesoul.nl/agenda-item/stralend-zijn/
CATEGORIES:Webinars
END:VEVENT
BEGIN:VEVENT
DTSTART;TZID=Europe/Amsterdam:20260123T133000
DTEND;TZID=Europe/Amsterdam:20260123T150000
DTSTAMP:20260420T005942
CREATED:20260107T102937Z
LAST-MODIFIED:20260107T102937Z
UID:37269-1769175000-1769180400@centerofthesoul.nl
SUMMARY:Durf te stralen.
DESCRIPTION:https://center-of-the-soul.webinargeek.com/durf-te-stralen
URL:https://centerofthesoul.nl/agenda-item/durf-te-stralen/
CATEGORIES:Webinars
ATTACH;FMTTYPE=image/jpeg:https://centerofthesoul.nl/wp-content/uploads/2020/10/healing-power-of-love.jpg
END:VEVENT
BEGIN:VEVENT
DTSTART;TZID=Europe/Amsterdam:20260204T190000
DTEND;TZID=Europe/Amsterdam:20260204T200000
DTSTAMP:20260420T005942
CREATED:20260107T102409Z
LAST-MODIFIED:20260107T102409Z
UID:37265-1770231600-1770235200@centerofthesoul.nl
SUMMARY:Ma-licht.
DESCRIPTION:https://center-of-the-soul.webinargeek.com/ma-licht
URL:https://centerofthesoul.nl/agenda-item/ma-licht/
CATEGORIES:Webinars
ATTACH;FMTTYPE=image/jpeg:https://centerofthesoul.nl/wp-content/uploads/2023/07/hands-of-god.jpeg
END:VEVENT
BEGIN:VEVENT
DTSTART;TZID=Europe/Amsterdam:20260306T133000
DTEND;TZID=Europe/Amsterdam:20260306T133000
DTSTAMP:20260420T005942
CREATED:20260205T143307Z
LAST-MODIFIED:20260205T143554Z
UID:37885-1772803800-1772803800@centerofthesoul.nl
SUMMARY:Vooruitgang.
DESCRIPTION:https://center-of-the-soul.webinargeek.com/vooruitgang
URL:https://centerofthesoul.nl/agenda-item/vooruitgang/
CATEGORIES:Webinars
ATTACH;FMTTYPE=image/jpeg:https://centerofthesoul.nl/wp-content/uploads/2020/10/healing-power-of-love.jpg
END:VEVENT
BEGIN:VEVENT
DTSTART;TZID=Europe/Amsterdam:20260213T133000
DTEND;TZID=Europe/Amsterdam:20260213T150000
DTSTAMP:20260420T005942
CREATED:20260205T142816Z
LAST-MODIFIED:20260205T142816Z
UID:37881-1770989400-1770994800@centerofthesoul.nl
SUMMARY:Ma-licht2
DESCRIPTION:https://center-of-the-soul.webinargeek.com/ma-licht-2
URL:https://centerofthesoul.nl/agenda-item/ma-licht2/
CATEGORIES:Webinars
ATTACH;FMTTYPE=image/jpeg:https://centerofthesoul.nl/wp-content/uploads/2023/07/hands-of-god_2.jpg
END:VEVENT
BEGIN:VEVENT
DTSTART;TZID=Europe/Amsterdam:20260225T190000
DTEND;TZID=Europe/Amsterdam:20260225T200000
DTSTAMP:20260420T005942
CREATED:20260205T143051Z
LAST-MODIFIED:20260205T143051Z
UID:37883-1772046000-1772049600@centerofthesoul.nl
SUMMARY:Doorstroming.
DESCRIPTION:https://center-of-the-soul.webinargeek.com/doorstroming-1
URL:https://centerofthesoul.nl/agenda-item/doorstroming/
CATEGORIES:Webinars
ATTACH;FMTTYPE=image/jpeg:https://centerofthesoul.nl/wp-content/uploads/2021/04/starlight.jpg
END:VEVENT
BEGIN:VEVENT
DTSTART;TZID=Europe/Amsterdam:20260318T190000
DTEND;TZID=Europe/Amsterdam:20260318T200000
DTSTAMP:20260420T005942
CREATED:20260313T095212Z
LAST-MODIFIED:20260313T095212Z
UID:38596-1773860400-1773864000@centerofthesoul.nl
SUMMARY:Het kristallijnen walvisgrid.
DESCRIPTION:https://center-of-the-soul.webinargeek.com/verbinding-1
URL:https://centerofthesoul.nl/agenda-item/het-kristallijnen-walvisgrid/
CATEGORIES:Webinars
ATTACH;FMTTYPE=image/jpeg:https://centerofthesoul.nl/wp-content/uploads/2026/03/crystal-whale.jpg
END:VEVENT
BEGIN:VEVENT
DTSTART;TZID=Europe/Amsterdam:20260327T133000
DTEND;TZID=Europe/Amsterdam:20260327T150000
DTSTAMP:20260420T005942
CREATED:20260313T095414Z
LAST-MODIFIED:20260313T095414Z
UID:38599-1774618200-1774623600@centerofthesoul.nl
SUMMARY:Hartenwaterplasma.
DESCRIPTION:https://center-of-the-soul.webinargeek.com/hartenwaterplasma
URL:https://centerofthesoul.nl/agenda-item/hartenwaterplasma/
CATEGORIES:Webinars
ATTACH;FMTTYPE=image/jpeg:https://centerofthesoul.nl/wp-content/uploads/2023/10/de-weg-naar-het-hart2-1.jpg
END:VEVENT
BEGIN:VEVENT
DTSTART;TZID=Europe/Amsterdam:20260408T190000
DTEND;TZID=Europe/Amsterdam:20260408T200000
DTSTAMP:20260420T005942
CREATED:20260313T095618Z
LAST-MODIFIED:20260313T095618Z
UID:38601-1775674800-1775678400@centerofthesoul.nl
SUMMARY:Opstaan in Liefde.
DESCRIPTION:https://center-of-the-soul.webinargeek.com/opstaan-in-liefde
URL:https://centerofthesoul.nl/agenda-item/opstaan-in-liefde/
CATEGORIES:Webinars
ATTACH;FMTTYPE=image/jpeg:https://centerofthesoul.nl/wp-content/uploads/2021/06/IMG_1304.jpg
END:VEVENT
BEGIN:VEVENT
DTSTART;TZID=Europe/Amsterdam:20260417T133000
DTEND;TZID=Europe/Amsterdam:20260417T150000
DTSTAMP:20260420T005942
CREATED:20260410T082851Z
LAST-MODIFIED:20260410T082851Z
UID:38605-1776432600-1776438000@centerofthesoul.nl
SUMMARY:Het nieuwe begin.
DESCRIPTION:https://center-of-the-soul.webinargeek.com/het-nieuwe-begin
URL:https://centerofthesoul.nl/agenda-item/het-nieuwe-begin/
CATEGORIES:Webinars
ATTACH;FMTTYPE=image/jpeg:https://centerofthesoul.nl/wp-content/uploads/2026/04/christdance.jpg
END:VEVENT
BEGIN:VEVENT
DTSTART;TZID=Europe/Amsterdam:20260429T190000
DTEND;TZID=Europe/Amsterdam:20260429T200000
DTSTAMP:20260420T005942
CREATED:20260410T083035Z
LAST-MODIFIED:20260410T083035Z
UID:38610-1777489200-1777492800@centerofthesoul.nl
SUMMARY:Pure verbinding.
DESCRIPTION:https://center-of-the-soul.webinargeek.com/pure-verbinding
URL:https://centerofthesoul.nl/agenda-item/pure-verbinding/
CATEGORIES:Webinars
ATTACH;FMTTYPE=image/jpeg:https://centerofthesoul.nl/wp-content/uploads/2026/04/bride-of-christ.jpg
END:VEVENT
BEGIN:VEVENT
DTSTART;TZID=Europe/Amsterdam:20260515T133000
DTEND;TZID=Europe/Amsterdam:20260515T150000
DTSTAMP:20260420T005942
CREATED:20260410T083156Z
LAST-MODIFIED:20260410T083156Z
UID:38612-1778851800-1778857200@centerofthesoul.nl
SUMMARY:De kosmische bruiloft.
DESCRIPTION:https://center-of-the-soul.webinargeek.com/de-kosmische-bruiloft
URL:https://centerofthesoul.nl/agenda-item/de-kosmische-bruiloft/
CATEGORIES:Webinars
ATTACH;FMTTYPE=image/jpeg:https://centerofthesoul.nl/wp-content/uploads/2026/04/christ-children.jpg
END:VEVENT
END:VCALENDAR