BEGIN:VCALENDAR
VERSION:2.0
PRODID:-//Center of the Soul - ECPv6.15.20//NONSGML v1.0//EN
CALSCALE:GREGORIAN
METHOD:PUBLISH
X-ORIGINAL-URL:https://centerofthesoul.nl
X-WR-CALDESC:Evenementen voor Center of the Soul
REFRESH-INTERVAL;VALUE=DURATION:PT1H
X-Robots-Tag:noindex
X-PUBLISHED-TTL:PT1H
BEGIN:VTIMEZONE
TZID:Europe/Amsterdam
BEGIN:DAYLIGHT
TZOFFSETFROM:+0100
TZOFFSETTO:+0200
TZNAME:CEST
DTSTART:20220327T010000
END:DAYLIGHT
BEGIN:STANDARD
TZOFFSETFROM:+0200
TZOFFSETTO:+0100
TZNAME:CET
DTSTART:20221030T010000
END:STANDARD
BEGIN:DAYLIGHT
TZOFFSETFROM:+0100
TZOFFSETTO:+0200
TZNAME:CEST
DTSTART:20230326T010000
END:DAYLIGHT
BEGIN:STANDARD
TZOFFSETFROM:+0200
TZOFFSETTO:+0100
TZNAME:CET
DTSTART:20231029T010000
END:STANDARD
BEGIN:DAYLIGHT
TZOFFSETFROM:+0100
TZOFFSETTO:+0200
TZNAME:CEST
DTSTART:20240331T010000
END:DAYLIGHT
BEGIN:STANDARD
TZOFFSETFROM:+0200
TZOFFSETTO:+0100
TZNAME:CET
DTSTART:20241027T010000
END:STANDARD
BEGIN:DAYLIGHT
TZOFFSETFROM:+0100
TZOFFSETTO:+0200
TZNAME:CEST
DTSTART:20250330T010000
END:DAYLIGHT
BEGIN:STANDARD
TZOFFSETFROM:+0200
TZOFFSETTO:+0100
TZNAME:CET
DTSTART:20251026T010000
END:STANDARD
END:VTIMEZONE
BEGIN:VEVENT
DTSTART;TZID=Europe/Amsterdam:20240406T133000
DTEND;TZID=Europe/Amsterdam:20240406T150000
DTSTAMP:20260419T235642
CREATED:20240330T091821Z
LAST-MODIFIED:20240330T091821Z
UID:15232-1712410200-1712415600@centerofthesoul.nl
SUMMARY:Webinar: Herrijzenis 2
DESCRIPTION:https://center-of-the-soul.webinargeek.com/herrijzenis-2
URL:https://centerofthesoul.nl/agenda-item/webinar-herrijzenis-2/
CATEGORIES:Webinars
ATTACH;FMTTYPE=image/jpeg:https://centerofthesoul.nl/wp-content/uploads/2021/06/verena-wild-1.jpeg
END:VEVENT
BEGIN:VEVENT
DTSTART;TZID=Europe/Amsterdam:20240327T190000
DTEND;TZID=Europe/Amsterdam:20240327T200000
DTSTAMP:20260419T235642
CREATED:20240308T125642Z
LAST-MODIFIED:20240308T125642Z
UID:14948-1711566000-1711569600@centerofthesoul.nl
SUMMARY:Webinar: Herrijzenis.
DESCRIPTION:https://center-of-the-soul.webinargeek.com/herrijzenbis
URL:https://centerofthesoul.nl/agenda-item/webinar-herrijzenis/
CATEGORIES:Webinars
ATTACH;FMTTYPE=image/jpeg:https://centerofthesoul.nl/wp-content/uploads/2021/05/IMG_0613.jpg
END:VEVENT
BEGIN:VEVENT
DTSTART;TZID=Europe/Amsterdam:20240315T133000
DTEND;TZID=Europe/Amsterdam:20240315T150000
DTSTAMP:20260419T235642
CREATED:20240308T125846Z
LAST-MODIFIED:20240308T125846Z
UID:14950-1710509400-1710514800@centerofthesoul.nl
SUMMARY:Webinar: Bezield leven.
DESCRIPTION:https://center-of-the-soul.webinargeek.com/bezield-leven
URL:https://centerofthesoul.nl/agenda-item/webinar-bezield-leven/
CATEGORIES:Webinars
ATTACH;FMTTYPE=image/jpeg:https://centerofthesoul.nl/wp-content/uploads/2020/10/healing-power-of-love.jpg
END:VEVENT
BEGIN:VEVENT
DTSTART;TZID=Europe/Amsterdam:20240306T190000
DTEND;TZID=Europe/Amsterdam:20240306T200000
DTSTAMP:20260419T235642
CREATED:20240216T092753Z
LAST-MODIFIED:20240216T092753Z
UID:14931-1709751600-1709755200@centerofthesoul.nl
SUMMARY:Bronkracht
DESCRIPTION:https://center-of-the-soul.webinargeek.com/bronkracht-1
URL:https://centerofthesoul.nl/agenda-item/bronkracht/
CATEGORIES:Webinars
ATTACH;FMTTYPE=image/jpeg:https://centerofthesoul.nl/wp-content/uploads/2023/01/207DDF26-4E35-40B3-956F-35D756863AEE_1_105_c.jpeg
END:VEVENT
BEGIN:VEVENT
DTSTART;TZID=Europe/Amsterdam:20240223T133000
DTEND;TZID=Europe/Amsterdam:20240223T150000
DTSTAMP:20260419T235642
CREATED:20240216T092622Z
LAST-MODIFIED:20240216T092622Z
UID:14929-1708695000-1708700400@centerofthesoul.nl
SUMMARY:De bron van het leven
DESCRIPTION:https://center-of-the-soul.webinargeek.com/de-bron-van-het-leven
URL:https://centerofthesoul.nl/agenda-item/de-bron-van-het-leven/
CATEGORIES:Webinars
ATTACH;FMTTYPE=image/jpeg:https://centerofthesoul.nl/wp-content/uploads/2020/01/baby.jpg
END:VEVENT
BEGIN:VEVENT
DTSTART;TZID=Europe/Amsterdam:20240214T190000
DTEND;TZID=Europe/Amsterdam:20240214T200000
DTSTAMP:20260419T235642
CREATED:20240126T095118Z
LAST-MODIFIED:20240126T095118Z
UID:14644-1707937200-1707940800@centerofthesoul.nl
SUMMARY:Sterrenliefde.
DESCRIPTION:https://center-of-the-soul.webinargeek.com/sterrenliefde
URL:https://centerofthesoul.nl/agenda-item/sterrenliefde/
CATEGORIES:Webinars
ATTACH;FMTTYPE=image/jpeg:https://centerofthesoul.nl/wp-content/uploads/2021/09/light20.jpg
END:VEVENT
BEGIN:VEVENT
DTSTART;TZID=Europe/Amsterdam:20240202T133000
DTEND;TZID=Europe/Amsterdam:20240202T150000
DTSTAMP:20260419T235642
CREATED:20240126T094937Z
LAST-MODIFIED:20240126T094937Z
UID:14642-1706880600-1706886000@centerofthesoul.nl
SUMMARY:De toon van verandering.
DESCRIPTION:https://center-of-the-soul.webinargeek.com/de-toon-van-verandering
URL:https://centerofthesoul.nl/agenda-item/de-toon-van-verandering/
CATEGORIES:Webinars
ATTACH;FMTTYPE=image/jpeg:https://centerofthesoul.nl/wp-content/uploads/2020/10/groene-draak10.jpg
END:VEVENT
BEGIN:VEVENT
DTSTART;TZID=Europe/Amsterdam:20240124T190000
DTEND;TZID=Europe/Amsterdam:20240124T200000
DTSTAMP:20260419T235642
CREATED:20240105T152228Z
LAST-MODIFIED:20240105T152228Z
UID:14509-1706122800-1706126400@centerofthesoul.nl
SUMMARY:De Maria-toon
DESCRIPTION:https://center-of-the-soul.webinargeek.com/de-maria-toon
URL:https://centerofthesoul.nl/agenda-item/de-maria-toon/
CATEGORIES:Webinars
ATTACH;FMTTYPE=image/jpeg:https://centerofthesoul.nl/wp-content/uploads/2020/10/000l053pvOR.jpg
END:VEVENT
BEGIN:VEVENT
DTSTART;TZID=Europe/Amsterdam:20240112T133000
DTEND;TZID=Europe/Amsterdam:20240112T150000
DTSTAMP:20260419T235642
CREATED:20240105T152019Z
LAST-MODIFIED:20240105T152019Z
UID:14507-1705066200-1705071600@centerofthesoul.nl
SUMMARY:Webinar: onderweg naar morgen.
DESCRIPTION:https://center-of-the-soul.webinargeek.com/we-zijn-vertrokken
URL:https://centerofthesoul.nl/agenda-item/webinar-onderweg-naar-morgen/
CATEGORIES:Webinars
ATTACH;FMTTYPE=image/jpeg:https://centerofthesoul.nl/wp-content/uploads/2021/01/now.jpg
END:VEVENT
BEGIN:VEVENT
DTSTART;TZID=Europe/Amsterdam:20231122T190000
DTEND;TZID=Europe/Amsterdam:20231122T200000
DTSTAMP:20260419T235642
CREATED:20231103T103427Z
LAST-MODIFIED:20231103T103427Z
UID:13273-1700679600-1700683200@centerofthesoul.nl
SUMMARY:Webinar: Aardepoortactivatie 3
DESCRIPTION:https://center-of-the-soul.webinargeek.com/aardepoort-activatie-3
URL:https://centerofthesoul.nl/agenda-item/webinar-aardepoortactivatie-3/
CATEGORIES:Webinars
ATTACH;FMTTYPE=image/jpeg:https://centerofthesoul.nl/wp-content/uploads/2020/09/cf72c40c0da61d1c29c548741c692f13.jpg
END:VEVENT
BEGIN:VEVENT
DTSTART;TZID=Europe/Amsterdam:20231110T133000
DTEND;TZID=Europe/Amsterdam:20231110T150000
DTSTAMP:20260419T235642
CREATED:20231103T103610Z
LAST-MODIFIED:20231103T103610Z
UID:13275-1699623000-1699628400@centerofthesoul.nl
SUMMARY:Webinar: De schemertijd.
DESCRIPTION:https://center-of-the-soul.webinargeek.com/de-schemertijd
URL:https://centerofthesoul.nl/agenda-item/webinar-de-schemertijd/
CATEGORIES:Webinars
ATTACH;FMTTYPE=image/jpeg:https://centerofthesoul.nl/wp-content/uploads/2023/03/drakenlicht-ijsland.jpg
END:VEVENT
BEGIN:VEVENT
DTSTART;TZID=Europe/Amsterdam:20231101T190000
DTEND;TZID=Europe/Amsterdam:20231101T200000
DTSTAMP:20260419T235642
CREATED:20231014T091749Z
LAST-MODIFIED:20231014T091749Z
UID:13175-1698865200-1698868800@centerofthesoul.nl
SUMMARY:Webinar:Aardepoortactivatie 2
DESCRIPTION:https://center-of-the-soul.webinargeek.com/aardepoort-activatie2
URL:https://centerofthesoul.nl/agenda-item/webinaraardepoortactivatie-2/
CATEGORIES:Webinars
ATTACH;FMTTYPE=image/jpeg:https://centerofthesoul.nl/wp-content/uploads/2020/09/sea_3_jesse.jpg
END:VEVENT
BEGIN:VEVENT
DTSTART;TZID=Europe/Amsterdam:20231020T133000
DTEND;TZID=Europe/Amsterdam:20231020T150000
DTSTAMP:20260419T235642
CREATED:20231014T091603Z
LAST-MODIFIED:20231014T091603Z
UID:13173-1697808600-1697814000@centerofthesoul.nl
SUMMARY:webinar: het schudden van de aarde.
DESCRIPTION:https://center-of-the-soul.webinargeek.com/het-schudden-van-de-aarde
URL:https://centerofthesoul.nl/agenda-item/webinar-het-schudden-van-de-aarde/
CATEGORIES:Webinars
ATTACH;FMTTYPE=image/jpeg:https://centerofthesoul.nl/wp-content/uploads/2021/01/golden-passage.jpg
END:VEVENT
BEGIN:VEVENT
DTSTART;TZID=Europe/Amsterdam:20231011T190000
DTEND;TZID=Europe/Amsterdam:20231011T200000
DTSTAMP:20260419T235642
CREATED:20230921T083608Z
LAST-MODIFIED:20230921T083608Z
UID:12797-1697050800-1697054400@centerofthesoul.nl
SUMMARY:Webinar:Aardepoort activatie.
DESCRIPTION:https://center-of-the-soul.webinargeek.com/aardepoort-activatie
URL:https://centerofthesoul.nl/agenda-item/webinaraardepoort-activatie/
CATEGORIES:Webinars
ATTACH;FMTTYPE=image/jpeg:https://centerofthesoul.nl/wp-content/uploads/2021/10/Goddess_Of_The_Autumn____by_Villenueve.jpg
END:VEVENT
BEGIN:VEVENT
DTSTART;TZID=Europe/Amsterdam:20230929T133000
DTEND;TZID=Europe/Amsterdam:20230929T150000
DTSTAMP:20260419T235642
CREATED:20230921T083435Z
LAST-MODIFIED:20230921T083435Z
UID:12795-1695994200-1695999600@centerofthesoul.nl
SUMMARY:Webinar:het licht groeit.
DESCRIPTION:https://center-of-the-soul.webinargeek.com/het-licht-groeit \n  \n 
URL:https://centerofthesoul.nl/agenda-item/webinarhet-licht-groeit/
CATEGORIES:Webinars
ATTACH;FMTTYPE=image/jpeg:https://centerofthesoul.nl/wp-content/uploads/2021/06/ce8c24_22d452d15c85469dadb74a969af8fde9.jpg
END:VEVENT
BEGIN:VEVENT
DTSTART;TZID=Europe/Amsterdam:20230830T190000
DTEND;TZID=Europe/Amsterdam:20230830T200000
DTSTAMP:20260419T235642
CREATED:20230811T105858Z
LAST-MODIFIED:20230811T105858Z
UID:12791-1693422000-1693425600@centerofthesoul.nl
SUMMARY:Webinar: Leeuwenstof
DESCRIPTION:https://center-of-the-soul.webinargeek.com/leeuwenstof
URL:https://centerofthesoul.nl/agenda-item/webinar-leeuwenstof/
CATEGORIES:Webinars
ATTACH;FMTTYPE=image/jpeg:https://centerofthesoul.nl/wp-content/uploads/2020/07/lionsgate7-768x432.jpg
END:VEVENT
BEGIN:VEVENT
DTSTART;TZID=Europe/Amsterdam:20230818T133000
DTEND;TZID=Europe/Amsterdam:20230818T150000
DTSTAMP:20260419T235642
CREATED:20230811T105721Z
LAST-MODIFIED:20230811T105721Z
UID:12789-1692365400-1692370800@centerofthesoul.nl
SUMMARY:Webinar: De leeuwenbron
DESCRIPTION:https://center-of-the-soul.webinargeek.com/de-leeuwenbron-1
URL:https://centerofthesoul.nl/agenda-item/webinar-de-leeuwenbron/
CATEGORIES:Webinars
ATTACH;FMTTYPE=image/jpeg:https://centerofthesoul.nl/wp-content/uploads/2020/08/liongate2.jpg
END:VEVENT
BEGIN:VEVENT
DTSTART;TZID=Europe/Amsterdam:20230728T133000
DTEND;TZID=Europe/Amsterdam:20230728T150000
DTSTAMP:20260419T235642
CREATED:20230702T112557Z
LAST-MODIFIED:20230702T112722Z
UID:12779-1690551000-1690556400@centerofthesoul.nl
SUMMARY:Webinar: De leeuwentroon frequentie.
DESCRIPTION:https://center-of-the-soul.webinargeek.com/de-leeuwentroon-frequentie
URL:https://centerofthesoul.nl/agenda-item/webinar-de-leeuwentroon-frequentie/
CATEGORIES:Webinars
ATTACH;FMTTYPE=image/jpeg:https://centerofthesoul.nl/wp-content/uploads/2019/07/lion4.jpg
END:VEVENT
BEGIN:VEVENT
DTSTART;TZID=Europe/Amsterdam:20230726T190000
DTEND;TZID=Europe/Amsterdam:20230726T200000
DTSTAMP:20260419T235642
CREATED:20230702T112353Z
LAST-MODIFIED:20230702T112818Z
UID:12777-1690398000-1690401600@centerofthesoul.nl
SUMMARY:Webinar: De Leeuwentoon
DESCRIPTION:https://center-of-the-soul.webinargeek.com/de-leeuwentoon
URL:https://centerofthesoul.nl/agenda-item/webinar-de-leeuwentoon/
CATEGORIES:Webinars
ATTACH;FMTTYPE=image/jpeg:https://centerofthesoul.nl/wp-content/uploads/2019/08/lionsgate7-768x432.jpg
END:VEVENT
BEGIN:VEVENT
DTSTART;TZID=Europe/Amsterdam:20230707T133000
DTEND;TZID=Europe/Amsterdam:20230707T150000
DTSTAMP:20260419T235642
CREATED:20230702T112128Z
LAST-MODIFIED:20230702T112128Z
UID:12775-1688736600-1688742000@centerofthesoul.nl
SUMMARY:Webinar: De samensmelting.
DESCRIPTION:https://center-of-the-soul.webinargeek.com/de-samensmelting
URL:https://centerofthesoul.nl/agenda-item/webinar-de-samensmelting/
CATEGORIES:Webinars
ATTACH;FMTTYPE=image/jpeg:https://centerofthesoul.nl/wp-content/uploads/2021/08/IMG_1609.jpg
END:VEVENT
BEGIN:VEVENT
DTSTART;TZID=Europe/Amsterdam:20230628T190000
DTEND;TZID=Europe/Amsterdam:20230628T200000
DTSTAMP:20260419T235642
CREATED:20230609T072335Z
LAST-MODIFIED:20230609T072335Z
UID:12770-1687978800-1687982400@centerofthesoul.nl
SUMMARY:Lemurische grondtoon 3
DESCRIPTION:https://center-of-the-soul.webinargeek.com/lemurische-grondtoon3
URL:https://centerofthesoul.nl/agenda-item/lemurische-grondtoon-3/
CATEGORIES:Webinars
ATTACH;FMTTYPE=image/jpeg:https://centerofthesoul.nl/wp-content/uploads/2020/11/ankh-pir.jpg
END:VEVENT
BEGIN:VEVENT
DTSTART;TZID=Europe/Amsterdam:20230616T133000
DTEND;TZID=Europe/Amsterdam:20230616T150000
DTSTAMP:20260419T235642
CREATED:20230609T072507Z
LAST-MODIFIED:20230609T072507Z
UID:12772-1686922200-1686927600@centerofthesoul.nl
SUMMARY:Het nieuwe Zijn
DESCRIPTION:https://center-of-the-soul.webinargeek.com/het-nieuwe-zijn
URL:https://centerofthesoul.nl/agenda-item/het-nieuwe-zijn/
CATEGORIES:Webinars
ATTACH;FMTTYPE=image/jpeg:https://centerofthesoul.nl/wp-content/uploads/2021/11/rainbow-spiral1.jpg
END:VEVENT
BEGIN:VEVENT
DTSTART;TZID=Europe/Amsterdam:20230531T190000
DTEND;TZID=Europe/Amsterdam:20230531T200000
DTSTAMP:20260419T235642
CREATED:20230512T084432Z
LAST-MODIFIED:20230512T085011Z
UID:12762-1685559600-1685563200@centerofthesoul.nl
SUMMARY:Webinar: De lemurische grondtoon 2
DESCRIPTION:https://center-of-the-soul.webinargeek.com/de-lemurische-grondtoon-2
URL:https://centerofthesoul.nl/agenda-item/12762/
CATEGORIES:Webinars
ATTACH;FMTTYPE=image/jpeg:https://centerofthesoul.nl/wp-content/uploads/2021/01/de-weg-naar-het-hart.jpg
END:VEVENT
BEGIN:VEVENT
DTSTART;TZID=Europe/Amsterdam:20230519T133000
DTEND;TZID=Europe/Amsterdam:20230519T150000
DTSTAMP:20260419T235642
CREATED:20230512T084716Z
LAST-MODIFIED:20230512T084716Z
UID:12764-1684503000-1684508400@centerofthesoul.nl
SUMMARY:Webinar: de nieuwe blauwdruk.
DESCRIPTION:https://center-of-the-soul.webinargeek.com/de-nieuwe-blauwdruk-1
URL:https://centerofthesoul.nl/agenda-item/webinar-de-nieuwe-blauwdruk/
CATEGORIES:Webinars
ATTACH;FMTTYPE=image/jpeg:https://centerofthesoul.nl/wp-content/uploads/2021/04/starlight.jpg
END:VEVENT
BEGIN:VEVENT
DTSTART;TZID=Europe/Amsterdam:20230510T190000
DTEND;TZID=Europe/Amsterdam:20230510T200000
DTSTAMP:20260419T235642
CREATED:20230420T142036Z
LAST-MODIFIED:20230420T142036Z
UID:12755-1683745200-1683748800@centerofthesoul.nl
SUMMARY:De lemurische grondtoon
DESCRIPTION:https://center-of-the-soul.webinargeek.com/de-lemurische-grondtoon
URL:https://centerofthesoul.nl/agenda-item/de-lemurische-grondtoon/
CATEGORIES:Webinars
ATTACH;FMTTYPE=image/jpeg:https://centerofthesoul.nl/wp-content/uploads/2021/10/diamant-light.jpeg
END:VEVENT
BEGIN:VEVENT
DTSTART;TZID=Europe/Amsterdam:20230428T133000
DTEND;TZID=Europe/Amsterdam:20230428T150000
DTSTAMP:20260419T235642
CREATED:20230420T141831Z
LAST-MODIFIED:20230420T142148Z
UID:12753-1682688600-1682694000@centerofthesoul.nl
SUMMARY:Blauwdrukken verbranden
DESCRIPTION:https://center-of-the-soul.webinargeek.com/blauwdrukken-verbranden
URL:https://centerofthesoul.nl/agenda-item/12753/
CATEGORIES:Webinars
ATTACH;FMTTYPE=image/jpeg:https://centerofthesoul.nl/wp-content/uploads/2018/07/fire.jpg
END:VEVENT
BEGIN:VEVENT
DTSTART;TZID=Europe/Amsterdam:20230419T190000
DTEND;TZID=Europe/Amsterdam:20230419T200000
DTSTAMP:20260419T235642
CREATED:20230331T081938Z
LAST-MODIFIED:20230331T081938Z
UID:12748-1681930800-1681934400@centerofthesoul.nl
SUMMARY:Webinar:Kristalkracht
DESCRIPTION:https://center-of-the-soul.webinargeek.com/kristalkracht-1
URL:https://centerofthesoul.nl/agenda-item/webinarkristalkracht/
CATEGORIES:Webinars
ATTACH;FMTTYPE=image/jpeg:https://centerofthesoul.nl/wp-content/uploads/2020/10/crystal-as-living-being.jpg
END:VEVENT
BEGIN:VEVENT
DTSTART;TZID=Europe/Amsterdam:20230407T133000
DTEND;TZID=Europe/Amsterdam:20230407T150000
DTSTAMP:20260419T235642
CREATED:20230331T081724Z
LAST-MODIFIED:20230331T081724Z
UID:12746-1680874200-1680879600@centerofthesoul.nl
SUMMARY:Webinar: Opstaan in licht en liefde.
DESCRIPTION:https://center-of-the-soul.webinargeek.com/opstaan-in-het-licht-der-liefde
URL:https://centerofthesoul.nl/agenda-item/webinar-opstaan-in-licht-en-liefde/
CATEGORIES:Webinars
ATTACH;FMTTYPE=image/jpeg:https://centerofthesoul.nl/wp-content/uploads/2021/01/de-weg-naar-het-hart.jpg
END:VEVENT
BEGIN:VEVENT
DTSTART;TZID=Europe/Amsterdam:20230329T190000
DTEND;TZID=Europe/Amsterdam:20230329T200000
DTSTAMP:20260419T235642
CREATED:20230312T095013Z
LAST-MODIFIED:20230312T095013Z
UID:12731-1680116400-1680120000@centerofthesoul.nl
SUMMARY:Webinar: De kristalbronnen 2
DESCRIPTION:https://center-of-the-soul.webinargeek.com/de-kristalbronnen-2
URL:https://centerofthesoul.nl/agenda-item/webinar-de-kristalbronnen-2/
CATEGORIES:Webinars
ATTACH;FMTTYPE=image/jpeg:https://centerofthesoul.nl/wp-content/uploads/2023/03/drakenlicht-ijsland.jpg
END:VEVENT
BEGIN:VEVENT
DTSTART;TZID=Europe/Amsterdam:20230317T133000
DTEND;TZID=Europe/Amsterdam:20230317T150000
DTSTAMP:20260419T235642
CREATED:20230312T095317Z
LAST-MODIFIED:20230312T095317Z
UID:12734-1679059800-1679065200@centerofthesoul.nl
SUMMARY:webinar: Het smaragden bronlicht.
DESCRIPTION:https://center-of-the-soul.webinargeek.com/het-smaragden-bronlicht
URL:https://centerofthesoul.nl/agenda-item/webinar-het-smaragden-bronlicht/
CATEGORIES:Webinars
ATTACH;FMTTYPE=image/jpeg:https://centerofthesoul.nl/wp-content/uploads/2023/03/drakenlicht-ijsland.jpg
END:VEVENT
END:VCALENDAR